BEGIN:VCALENDAR
VERSION:2.0
PRODID:-//Bay Area Film Society - ECPv6.15.20//NONSGML v1.0//EN
CALSCALE:GREGORIAN
METHOD:PUBLISH
X-WR-CALNAME:Bay Area Film Society
X-ORIGINAL-URL:https://bayareafilmsociety.org
X-WR-CALDESC:Events for Bay Area Film Society
REFRESH-INTERVAL;VALUE=DURATION:PT1H
X-Robots-Tag:noindex
X-PUBLISHED-TTL:PT1H
BEGIN:VTIMEZONE
TZID:America/Chicago
BEGIN:DAYLIGHT
TZOFFSETFROM:-0600
TZOFFSETTO:-0500
TZNAME:CDT
DTSTART:20230312T080000
END:DAYLIGHT
BEGIN:STANDARD
TZOFFSETFROM:-0500
TZOFFSETTO:-0600
TZNAME:CST
DTSTART:20231105T070000
END:STANDARD
BEGIN:DAYLIGHT
TZOFFSETFROM:-0600
TZOFFSETTO:-0500
TZNAME:CDT
DTSTART:20240310T080000
END:DAYLIGHT
BEGIN:STANDARD
TZOFFSETFROM:-0500
TZOFFSETTO:-0600
TZNAME:CST
DTSTART:20241103T070000
END:STANDARD
BEGIN:DAYLIGHT
TZOFFSETFROM:-0600
TZOFFSETTO:-0500
TZNAME:CDT
DTSTART:20250309T080000
END:DAYLIGHT
BEGIN:STANDARD
TZOFFSETFROM:-0500
TZOFFSETTO:-0600
TZNAME:CST
DTSTART:20251102T070000
END:STANDARD
END:VTIMEZONE
BEGIN:VEVENT
DTSTART;TZID=America/Chicago:20240112T183000
DTEND;TZID=America/Chicago:20240112T183000
DTSTAMP:20260425T052810
CREATED:20231130T204323Z
LAST-MODIFIED:20231130T204323Z
UID:10000101-1705084200-1705084200@bayareafilmsociety.org
SUMMARY:Anatomy of a Fall
DESCRIPTION:Anatomy of a Fall (French: Anatomie d’une chute) is a 2023 French courtroom drama thriller film directed by Justine Triet from a screenplay co-written by Triet and Arthur Harari. It stars Sandra Hüller as a writer trying to prove her innocence in her husband’s death. \nThe film received acclaim from critics\, who praised Triet and Hüller\, and it has sold over one million admissions in France. \n152 minutes\nNot Rated\n$7.00 for members
URL:https://bayareafilmsociety.org/event/anatomy-of-a-fall/
LOCATION:Historic Bay Theater\, 420 Main Street West\, Ashland\, WI\, 54806
CATEGORIES:Film Screening
ATTACH;FMTTYPE=image/jpeg:https://bayareafilmsociety.org/wp-content/uploads/2023/11/Anatomy_of_a_Fall_2023_film_poster.jpg
END:VEVENT
END:VCALENDAR