BEGIN:VCALENDAR
VERSION:2.0
PRODID:-//Bay Area Film Society - ECPv6.15.20//NONSGML v1.0//EN
CALSCALE:GREGORIAN
METHOD:PUBLISH
X-WR-CALNAME:Bay Area Film Society
X-ORIGINAL-URL:https://bayareafilmsociety.org
X-WR-CALDESC:Events for Bay Area Film Society
REFRESH-INTERVAL;VALUE=DURATION:PT1H
X-Robots-Tag:noindex
X-PUBLISHED-TTL:PT1H
BEGIN:VTIMEZONE
TZID:America/Chicago
BEGIN:DAYLIGHT
TZOFFSETFROM:-0600
TZOFFSETTO:-0500
TZNAME:CDT
DTSTART:20250309T080000
END:DAYLIGHT
BEGIN:STANDARD
TZOFFSETFROM:-0500
TZOFFSETTO:-0600
TZNAME:CST
DTSTART:20251102T070000
END:STANDARD
BEGIN:DAYLIGHT
TZOFFSETFROM:-0600
TZOFFSETTO:-0500
TZNAME:CDT
DTSTART:20260308T080000
END:DAYLIGHT
BEGIN:STANDARD
TZOFFSETFROM:-0500
TZOFFSETTO:-0600
TZNAME:CST
DTSTART:20261101T070000
END:STANDARD
BEGIN:DAYLIGHT
TZOFFSETFROM:-0600
TZOFFSETTO:-0500
TZNAME:CDT
DTSTART:20270314T080000
END:DAYLIGHT
BEGIN:STANDARD
TZOFFSETFROM:-0500
TZOFFSETTO:-0600
TZNAME:CST
DTSTART:20271107T070000
END:STANDARD
END:VTIMEZONE
BEGIN:VEVENT
DTSTART;TZID=America/Chicago:20260109T170000
DTEND;TZID=America/Chicago:20260109T170000
DTSTAMP:20260423T165215
CREATED:20251121T205138Z
LAST-MODIFIED:20251206T145535Z
UID:10001049-1767978000-1767978000@bayareafilmsociety.org
SUMMARY:It Was Just an Accident
DESCRIPTION:It Was Just an Accident (Persian: یک تصادف ساده\, romanized: Yek tasadof-e sadeh; French: Un simple accident) is a 2025 thriller film written and directed by Jafar Panahi. The film is a co-production between Iran\, France\, and Luxembourg. The film follows a group of former Iranian political prisoners who face the question of whether to exact revenge on their tormentor. Panahi\, who is critical of the Iranian government and has been imprisoned several times\, made the film without official filming permission from the Iranian authorities. \nBy Memento Distribution – https://www.memento.eu/un-simple-accident/\, Fair use\, Link
URL:https://bayareafilmsociety.org/event/it-was-just-an-accident-2/
LOCATION:Historic Bay Theater\, 420 Main Street West\, Ashland\, WI\, 54806
CATEGORIES:Film Screening
ATTACH;FMTTYPE=image/jpeg:https://bayareafilmsociety.org/wp-content/uploads/2025/08/Un_Simple_Accident_2025.jpeg
END:VEVENT
BEGIN:VEVENT
DTSTART;TZID=America/Chicago:20260109T193000
DTEND;TZID=America/Chicago:20260109T193000
DTSTAMP:20260423T165215
CREATED:20251121T205436Z
LAST-MODIFIED:20251121T205659Z
UID:10001050-1767987000-1767987000@bayareafilmsociety.org
SUMMARY:It Was Just an Accident
DESCRIPTION:It Was Just an Accident (Persian: یک تصادف ساده\, romanized: Yek tasadof-e sadeh; French: Un simple accident) is a 2025 thriller film written and directed by Jafar Panahi. The film is a co-production between Iran\, France\, and Luxembourg. The film follows a group of former Iranian political prisoners who face the question of whether to exact revenge on their tormentor. Panahi\, who is critical of the Iranian government and has been imprisoned several times\, made the film without official filming permission from the Iranian authorities. \nBy Memento Distribution – https://www.memento.eu/un-simple-accident/\, Fair use\, Link
URL:https://bayareafilmsociety.org/event/it-was-just-an-accident-3/
LOCATION:Historic Bay Theater\, 420 Main Street West\, Ashland\, WI\, 54806
CATEGORIES:Film Screening
ATTACH;FMTTYPE=image/jpeg:https://bayareafilmsociety.org/wp-content/uploads/2025/08/Un_Simple_Accident_2025.jpeg
END:VEVENT
END:VCALENDAR