BEGIN:VCALENDAR
VERSION:2.0
PRODID:-//Bay Area Film Society - ECPv6.15.20//NONSGML v1.0//EN
CALSCALE:GREGORIAN
METHOD:PUBLISH
X-ORIGINAL-URL:https://bayareafilmsociety.org
X-WR-CALDESC:Events for Bay Area Film Society
REFRESH-INTERVAL;VALUE=DURATION:PT1H
X-Robots-Tag:noindex
X-PUBLISHED-TTL:PT1H
BEGIN:VTIMEZONE
TZID:America/Chicago
BEGIN:DAYLIGHT
TZOFFSETFROM:-0600
TZOFFSETTO:-0500
TZNAME:CDT
DTSTART:20250309T080000
END:DAYLIGHT
BEGIN:STANDARD
TZOFFSETFROM:-0500
TZOFFSETTO:-0600
TZNAME:CST
DTSTART:20251102T070000
END:STANDARD
BEGIN:DAYLIGHT
TZOFFSETFROM:-0600
TZOFFSETTO:-0500
TZNAME:CDT
DTSTART:20260308T080000
END:DAYLIGHT
BEGIN:STANDARD
TZOFFSETFROM:-0500
TZOFFSETTO:-0600
TZNAME:CST
DTSTART:20261101T070000
END:STANDARD
BEGIN:DAYLIGHT
TZOFFSETFROM:-0600
TZOFFSETTO:-0500
TZNAME:CDT
DTSTART:20270314T080000
END:DAYLIGHT
BEGIN:STANDARD
TZOFFSETFROM:-0500
TZOFFSETTO:-0600
TZNAME:CST
DTSTART:20271107T070000
END:STANDARD
BEGIN:DAYLIGHT
TZOFFSETFROM:-0600
TZOFFSETTO:-0500
TZNAME:CDT
DTSTART:20280312T080000
END:DAYLIGHT
BEGIN:STANDARD
TZOFFSETFROM:-0500
TZOFFSETTO:-0600
TZNAME:CST
DTSTART:20281105T070000
END:STANDARD
END:VTIMEZONE
BEGIN:VEVENT
DTSTART;TZID=America/Chicago:20260117T130000
DTEND;TZID=America/Chicago:20260117T210000
DTSTAMP:20260423T182535
CREATED:20251119T001026Z
LAST-MODIFIED:20251119T002239Z
UID:10001045-1768654800-1768683600@bayareafilmsociety.org
SUMMARY:18th Big Water Film Festival
DESCRIPTION:
URL:https://bayareafilmsociety.org/event/18th-big-water-film-festival/
LOCATION:Historic Bay Theater\, 420 Main Street West\, Ashland\, WI\, 54806
CATEGORIES:Film Events
ATTACH;FMTTYPE=image/jpeg:https://bayareafilmsociety.org/wp-content/uploads/2023/12/bigwaterfilmlogo.jpg
END:VEVENT
BEGIN:VEVENT
DTSTART;TZID=America/Chicago:20260120T173000
DTEND;TZID=America/Chicago:20260120T173000
DTSTAMP:20260423T182535
CREATED:20250918T002508Z
LAST-MODIFIED:20250918T002604Z
UID:10000984-1768930200-1768930200@bayareafilmsociety.org
SUMMARY:BAFS Board meeting
DESCRIPTION:
URL:https://bayareafilmsociety.org/event/bafs-board-meeting-13/2026-01-20/
LOCATION:Historic Bay Theater\, 420 Main Street West\, Ashland\, WI\, 54806
END:VEVENT
BEGIN:VEVENT
DTSTART;TZID=America/Chicago:20260130T170000
DTEND;TZID=America/Chicago:20260130T170000
DTSTAMP:20260423T182535
CREATED:20260109T205306Z
LAST-MODIFIED:20260109T210250Z
UID:10001051-1769792400-1769792400@bayareafilmsociety.org
SUMMARY:Sentimental Value
DESCRIPTION:Sentimental Value (Norwegian: Affeksjonsverdi) is a 2025 drama film directed by Joachim Trier\, who co-wrote it with Eskil Vogt. It follows the sisters Nora (Renate Reinsve) and Agnes (Inga Ibsdotter Lilleaas) in their reunion with their estranged father Gustav (Stellan Skarsgård). \nAt the 83rd Golden Globe Awards\, it was nominated for Best Motion Picture – Drama alongside acting nominations for Reinsve\, Skarsgård\, Lilleaas\, and Fanning. It was also selected as the Norwegian entry for Best International Feature Film at the 98th Academy Awards\,[6] making the December shortlist. \n\nBy Mer FilmEye Eye Pictures MK Productions BBC Film Lumen Production Komplizen Film Zentropa Zentropa Sweden Film i Väst Alaz Film – https://www.odeonkino.no/film/affeksjonsverdi/https://www.filmweb.no/filmnytt/forste-klipp-affeksjonsverdi\, Fair use\, Link
URL:https://bayareafilmsociety.org/event/sentimental-value/
LOCATION:Historic Bay Theater\, 420 Main Street West\, Ashland\, WI\, 54806
CATEGORIES:Film Screening
ATTACH;FMTTYPE=image/jpeg:https://bayareafilmsociety.org/wp-content/uploads/2026/01/Sentimental_Value_2025.jpeg
END:VEVENT
BEGIN:VEVENT
DTSTART;TZID=America/Chicago:20260130T193000
DTEND;TZID=America/Chicago:20260130T193000
DTSTAMP:20260423T182535
CREATED:20260109T210402Z
LAST-MODIFIED:20260109T210402Z
UID:10001052-1769801400-1769801400@bayareafilmsociety.org
SUMMARY:Sentimental Value
DESCRIPTION:Sentimental Value (Norwegian: Affeksjonsverdi) is a 2025 drama film directed by Joachim Trier\, who co-wrote it with Eskil Vogt. It follows the sisters Nora (Renate Reinsve) and Agnes (Inga Ibsdotter Lilleaas) in their reunion with their estranged father Gustav (Stellan Skarsgård). \nAt the 83rd Golden Globe Awards\, it was nominated for Best Motion Picture – Drama alongside acting nominations for Reinsve\, Skarsgård\, Lilleaas\, and Fanning. It was also selected as the Norwegian entry for Best International Feature Film at the 98th Academy Awards\,[6] making the December shortlist. \n\nBy Mer FilmEye Eye Pictures MK Productions BBC Film Lumen Production Komplizen Film Zentropa Zentropa Sweden Film i Väst Alaz Film – https://www.odeonkino.no/film/affeksjonsverdi/https://www.filmweb.no/filmnytt/forste-klipp-affeksjonsverdi\, Fair use\, Link
URL:https://bayareafilmsociety.org/event/sentimental-value-2/
LOCATION:Historic Bay Theater\, 420 Main Street West\, Ashland\, WI\, 54806
CATEGORIES:Film Screening
ATTACH;FMTTYPE=image/jpeg:https://bayareafilmsociety.org/wp-content/uploads/2026/01/Sentimental_Value_2025.jpeg
END:VEVENT
BEGIN:VEVENT
DTSTART;TZID=America/Chicago:20260217T173000
DTEND;TZID=America/Chicago:20260217T173000
DTSTAMP:20260423T182535
CREATED:20250918T002508Z
LAST-MODIFIED:20250918T002604Z
UID:10000985-1771349400-1771349400@bayareafilmsociety.org
SUMMARY:BAFS Board meeting
DESCRIPTION:
URL:https://bayareafilmsociety.org/event/bafs-board-meeting-13/2026-02-17/
LOCATION:Historic Bay Theater\, 420 Main Street West\, Ashland\, WI\, 54806
END:VEVENT
BEGIN:VEVENT
DTSTART;TZID=America/Chicago:20260220T180000
DTEND;TZID=America/Chicago:20260220T180000
DTSTAMP:20260423T182535
CREATED:20260130T203828Z
LAST-MODIFIED:20260209T174915Z
UID:10001053-1771610400-1771610400@bayareafilmsociety.org
SUMMARY:The Secret Agent
DESCRIPTION:The Secret Agent (Portuguese: O Agente Secreto; Brazilian Portuguese: [u aˈʒẽt͡ʃi seˈkɾɛtu]) is a 2025 neo-noir historical political thriller film written and directed by Kleber Mendonça Filho. It follows Armando (Wagner Moura)\, a former professor caught in the political turmoil in the midst of the Brazilian military dictatorship\, attempting to flee persecution and resist an authoritarian regime. \nFair use\, Link
URL:https://bayareafilmsociety.org/event/the-secret-agent/
LOCATION:Historic Bay Theater\, 420 Main Street West\, Ashland\, WI\, 54806
CATEGORIES:Film Screening
ATTACH;FMTTYPE=image/png:https://bayareafilmsociety.org/wp-content/uploads/2026/01/The_Secret_Agent.png
END:VEVENT
BEGIN:VEVENT
DTSTART;TZID=America/Chicago:20260313T183000
DTEND;TZID=America/Chicago:20260313T183000
DTSTAMP:20260423T182535
CREATED:20260220T000238Z
LAST-MODIFIED:20260220T000932Z
UID:10001054-1773426600-1773426600@bayareafilmsociety.org
SUMMARY:The Sting
DESCRIPTION:﻿﻿BAFS celebrates the Academy Awards & the late great Robert Redford with his only nomination for Best Actor. \n\nBy Illustrator unknown; presumably a work-for-hire for distributor Universal Pictures. – Scan via Heritage Auctions.\, Public Domain\, Link \n 
URL:https://bayareafilmsociety.org/event/the-sting/
LOCATION:Historic Bay Theater\, 420 Main Street West\, Ashland\, WI\, 54806
CATEGORIES:Film Screening
ATTACH;FMTTYPE=image/jpeg:https://bayareafilmsociety.org/wp-content/uploads/2026/02/thesting-e1771546233719.jpeg
END:VEVENT
BEGIN:VEVENT
DTSTART;TZID=America/Chicago:20260317T173000
DTEND;TZID=America/Chicago:20260317T173000
DTSTAMP:20260423T182535
CREATED:20250918T002508Z
LAST-MODIFIED:20250918T002604Z
UID:10000986-1773768600-1773768600@bayareafilmsociety.org
SUMMARY:BAFS Board meeting
DESCRIPTION:
URL:https://bayareafilmsociety.org/event/bafs-board-meeting-13/2026-03-17/
LOCATION:Historic Bay Theater\, 420 Main Street West\, Ashland\, WI\, 54806
END:VEVENT
BEGIN:VEVENT
DTSTART;TZID=America/Chicago:20260410T183000
DTEND;TZID=America/Chicago:20260410T183000
DTSTAMP:20260423T182535
CREATED:20260220T002348Z
LAST-MODIFIED:20260220T002641Z
UID:10001055-1775845800-1775845800@bayareafilmsociety.org
SUMMARY:No Other Choice
DESCRIPTION:﻿No Other Choice (Korean: 어쩔수가없다) is a 2025 South Korean black comedy thriller film co-written\, produced\, and directed by Park Chan-wook. Based on The Ax by Donald Westlake\, the film stars Lee Byung-hun\, Son Ye-jin\, Park Hee-soon\, Lee Sung-min\, Yeom Hye-ran\, and Cha Seung-won. \nFair use\, Link
URL:https://bayareafilmsociety.org/event/no-other-choice/
LOCATION:Historic Bay Theater\, 420 Main Street West\, Ashland\, WI\, 54806
CATEGORIES:Film Screening
ATTACH;FMTTYPE=image/jpeg:https://bayareafilmsociety.org/wp-content/uploads/2026/02/No_Other_Choice_film_poster.jpeg
END:VEVENT
BEGIN:VEVENT
DTSTART;TZID=America/Chicago:20260421T173000
DTEND;TZID=America/Chicago:20260421T173000
DTSTAMP:20260423T182535
CREATED:20250918T002508Z
LAST-MODIFIED:20250918T002604Z
UID:10000987-1776792600-1776792600@bayareafilmsociety.org
SUMMARY:BAFS Board meeting
DESCRIPTION:
URL:https://bayareafilmsociety.org/event/bafs-board-meeting-13/2026-04-21/
LOCATION:Historic Bay Theater\, 420 Main Street West\, Ashland\, WI\, 54806
END:VEVENT
BEGIN:VEVENT
DTSTART;TZID=America/Chicago:20260501T173000
DTEND;TZID=America/Chicago:20260501T190000
DTSTAMP:20260423T182535
CREATED:20260416T204502Z
LAST-MODIFIED:20260416T204540Z
UID:10001057-1777656600-1777662000@bayareafilmsociety.org
SUMMARY:BAFS Member/Sponsor only party
DESCRIPTION:Party @ the Black Cat Coffeehouse 5:30-7 with pizza & salad buffet along with cash bar
URL:https://bayareafilmsociety.org/event/bafs-member-sponsor-only-party/
LOCATION:The Black Cat Coffeehouse\, 211 Chapple Ave.\, Ashland\, WI\, 54806\, United States
CATEGORIES:Special Events
ATTACH;FMTTYPE=image/png:https://bayareafilmsociety.org/wp-content/uploads/2022/11/cropped-icon.png
END:VEVENT
BEGIN:VEVENT
DTSTART;TZID=America/Chicago:20260501T193000
DTEND;TZID=America/Chicago:20260501T193000
DTSTAMP:20260423T182535
CREATED:20260416T204652Z
LAST-MODIFIED:20260416T204719Z
UID:10001058-1777663800-1777663800@bayareafilmsociety.org
SUMMARY:Secret Movie Screening
DESCRIPTION:Secret movie screening @ the Bay Theater @ 7:30 pm with FREE popcorn for all.
URL:https://bayareafilmsociety.org/event/secret-movie-screening/
LOCATION:Historic Bay Theater\, 420 Main Street West\, Ashland\, WI\, 54806
CATEGORIES:Film Screening
ATTACH;FMTTYPE=image/png:https://bayareafilmsociety.org/wp-content/uploads/2022/11/icon.png
END:VEVENT
BEGIN:VEVENT
DTSTART;TZID=America/Chicago:20260519T173000
DTEND;TZID=America/Chicago:20260519T173000
DTSTAMP:20260423T182535
CREATED:20250918T002508Z
LAST-MODIFIED:20250918T002604Z
UID:10000988-1779211800-1779211800@bayareafilmsociety.org
SUMMARY:BAFS Board meeting
DESCRIPTION:
URL:https://bayareafilmsociety.org/event/bafs-board-meeting-13/2026-05-19/
LOCATION:Historic Bay Theater\, 420 Main Street West\, Ashland\, WI\, 54806
END:VEVENT
BEGIN:VEVENT
DTSTART;TZID=America/Chicago:20260529T183000
DTEND;TZID=America/Chicago:20260529T183000
DTSTAMP:20260423T182535
CREATED:20260420T154046Z
LAST-MODIFIED:20260420T160548Z
UID:10001059-1780079400-1780079400@bayareafilmsociety.org
SUMMARY:You Got Gold: A Celebration of John Prine
DESCRIPTION:﻿A Night of music & film to honor John Prine. \nFilm screening at 6:30. Mucic to follow by Rory van James. \nTickets $20 in advance. $25 at the door.
URL:https://bayareafilmsociety.org/event/you-got-gold-a-celebration-of-john-prine/
LOCATION:Stage North\, 123 W Omaha St.\, Washburn\, WI\, 54891\, United States
CATEGORIES:Film Screening,Special Events
ATTACH;FMTTYPE=image/jpeg:https://bayareafilmsociety.org/wp-content/uploads/2026/04/John-Prine-ygg.jpg
END:VEVENT
BEGIN:VEVENT
DTSTART;TZID=America/Chicago:20260604T190000
DTEND;TZID=America/Chicago:20260604T203000
DTSTAMP:20260423T182535
CREATED:20260323T220530Z
LAST-MODIFIED:20260416T204942Z
UID:10001056-1780599600-1780605000@bayareafilmsociety.org
SUMMARY:The Librarians
DESCRIPTION:Honest Dog Books is kicking off their Stand with the Banned weekend with the documentary\, The Librarians. \nAs an unprecedented wave of book banning is sparked in Texas\, Florida\, and beyond\, librarians under siege join forces as unlikely defenders fighting for intellectual freedom on the front lines of democracy. \nTHE LIBRARIANS\, which made its world premiere at Sundance\, explores the urgent moment we find ourselves in. As an unprecedented wave of book banning is sparked in Texas\, Florida\, and beyond\, librarians under siege join forces as unlikely defenders fighting for intellectual freedom on the front lines of democracy\, flanked by concerned community members and young readers. \nSuggested donation of $5-$10. \nDoors & Bar open at 6pm. \nThis movie is brought to you by the Bay Area Film Society\, the Vaughn Library\, and Honest Dog Books. \nsee details
URL:https://bayareafilmsociety.org/event/the-librarians/
LOCATION:Honest Dog Books\, 38 S 2nd St\, Bayfield\, WI\, 54814\, United States
CATEGORIES:Film Screening
ATTACH;FMTTYPE=image/jpeg:https://bayareafilmsociety.org/wp-content/uploads/2026/03/TheLibrarians_Poster___Instagram_Stories-e1774303931582.jpg
END:VEVENT
BEGIN:VEVENT
DTSTART;TZID=America/Chicago:20260616T173000
DTEND;TZID=America/Chicago:20260616T173000
DTSTAMP:20260423T182535
CREATED:20250918T002508Z
LAST-MODIFIED:20250918T002604Z
UID:10000989-1781631000-1781631000@bayareafilmsociety.org
SUMMARY:BAFS Board meeting
DESCRIPTION:
URL:https://bayareafilmsociety.org/event/bafs-board-meeting-13/2026-06-16/
LOCATION:Historic Bay Theater\, 420 Main Street West\, Ashland\, WI\, 54806
END:VEVENT
BEGIN:VEVENT
DTSTART;TZID=America/Chicago:20260721T173000
DTEND;TZID=America/Chicago:20260721T173000
DTSTAMP:20260423T182535
CREATED:20250918T002508Z
LAST-MODIFIED:20250918T002604Z
UID:10000990-1784655000-1784655000@bayareafilmsociety.org
SUMMARY:BAFS Board meeting
DESCRIPTION:
URL:https://bayareafilmsociety.org/event/bafs-board-meeting-13/2026-07-21/
LOCATION:Historic Bay Theater\, 420 Main Street West\, Ashland\, WI\, 54806
END:VEVENT
BEGIN:VEVENT
DTSTART;TZID=America/Chicago:20260818T173000
DTEND;TZID=America/Chicago:20260818T173000
DTSTAMP:20260423T182535
CREATED:20250918T002508Z
LAST-MODIFIED:20250918T002604Z
UID:10000991-1787074200-1787074200@bayareafilmsociety.org
SUMMARY:BAFS Board meeting
DESCRIPTION:
URL:https://bayareafilmsociety.org/event/bafs-board-meeting-13/2026-08-18/
LOCATION:Historic Bay Theater\, 420 Main Street West\, Ashland\, WI\, 54806
END:VEVENT
BEGIN:VEVENT
DTSTART;TZID=America/Chicago:20260915T173000
DTEND;TZID=America/Chicago:20260915T173000
DTSTAMP:20260423T182535
CREATED:20250918T002508Z
LAST-MODIFIED:20250918T002604Z
UID:10000992-1789493400-1789493400@bayareafilmsociety.org
SUMMARY:BAFS Board meeting
DESCRIPTION:
URL:https://bayareafilmsociety.org/event/bafs-board-meeting-13/2026-09-15/
LOCATION:Historic Bay Theater\, 420 Main Street West\, Ashland\, WI\, 54806
END:VEVENT
BEGIN:VEVENT
DTSTART;TZID=America/Chicago:20261020T173000
DTEND;TZID=America/Chicago:20261020T173000
DTSTAMP:20260423T182535
CREATED:20250918T002508Z
LAST-MODIFIED:20250918T002604Z
UID:10000993-1792517400-1792517400@bayareafilmsociety.org
SUMMARY:BAFS Board meeting
DESCRIPTION:
URL:https://bayareafilmsociety.org/event/bafs-board-meeting-13/2026-10-20/
LOCATION:Historic Bay Theater\, 420 Main Street West\, Ashland\, WI\, 54806
END:VEVENT
BEGIN:VEVENT
DTSTART;TZID=America/Chicago:20261117T173000
DTEND;TZID=America/Chicago:20261117T173000
DTSTAMP:20260423T182535
CREATED:20250918T002508Z
LAST-MODIFIED:20250918T002604Z
UID:10000994-1794936600-1794936600@bayareafilmsociety.org
SUMMARY:BAFS Board meeting
DESCRIPTION:
URL:https://bayareafilmsociety.org/event/bafs-board-meeting-13/2026-11-17/
LOCATION:Historic Bay Theater\, 420 Main Street West\, Ashland\, WI\, 54806
END:VEVENT
BEGIN:VEVENT
DTSTART;TZID=America/Chicago:20261215T173000
DTEND;TZID=America/Chicago:20261215T173000
DTSTAMP:20260423T182535
CREATED:20250918T002508Z
LAST-MODIFIED:20250918T002604Z
UID:10000995-1797355800-1797355800@bayareafilmsociety.org
SUMMARY:BAFS Board meeting
DESCRIPTION:
URL:https://bayareafilmsociety.org/event/bafs-board-meeting-13/2026-12-15/
LOCATION:Historic Bay Theater\, 420 Main Street West\, Ashland\, WI\, 54806
END:VEVENT
BEGIN:VEVENT
DTSTART;TZID=America/Chicago:20270119T173000
DTEND;TZID=America/Chicago:20270119T173000
DTSTAMP:20260423T182535
CREATED:20250918T002508Z
LAST-MODIFIED:20250918T002604Z
UID:10000996-1800379800-1800379800@bayareafilmsociety.org
SUMMARY:BAFS Board meeting
DESCRIPTION:
URL:https://bayareafilmsociety.org/event/bafs-board-meeting-13/2027-01-19/
LOCATION:Historic Bay Theater\, 420 Main Street West\, Ashland\, WI\, 54806
END:VEVENT
BEGIN:VEVENT
DTSTART;TZID=America/Chicago:20270216T173000
DTEND;TZID=America/Chicago:20270216T173000
DTSTAMP:20260423T182535
CREATED:20250918T002508Z
LAST-MODIFIED:20250918T002604Z
UID:10000997-1802799000-1802799000@bayareafilmsociety.org
SUMMARY:BAFS Board meeting
DESCRIPTION:
URL:https://bayareafilmsociety.org/event/bafs-board-meeting-13/2027-02-16/
LOCATION:Historic Bay Theater\, 420 Main Street West\, Ashland\, WI\, 54806
END:VEVENT
BEGIN:VEVENT
DTSTART;TZID=America/Chicago:20270316T173000
DTEND;TZID=America/Chicago:20270316T173000
DTSTAMP:20260423T182535
CREATED:20250918T002508Z
LAST-MODIFIED:20250918T002604Z
UID:10000998-1805218200-1805218200@bayareafilmsociety.org
SUMMARY:BAFS Board meeting
DESCRIPTION:
URL:https://bayareafilmsociety.org/event/bafs-board-meeting-13/2027-03-16/
LOCATION:Historic Bay Theater\, 420 Main Street West\, Ashland\, WI\, 54806
END:VEVENT
BEGIN:VEVENT
DTSTART;TZID=America/Chicago:20270420T173000
DTEND;TZID=America/Chicago:20270420T173000
DTSTAMP:20260423T182535
CREATED:20250918T002508Z
LAST-MODIFIED:20250918T002604Z
UID:10000999-1808242200-1808242200@bayareafilmsociety.org
SUMMARY:BAFS Board meeting
DESCRIPTION:
URL:https://bayareafilmsociety.org/event/bafs-board-meeting-13/2027-04-20/
LOCATION:Historic Bay Theater\, 420 Main Street West\, Ashland\, WI\, 54806
END:VEVENT
BEGIN:VEVENT
DTSTART;TZID=America/Chicago:20270518T173000
DTEND;TZID=America/Chicago:20270518T173000
DTSTAMP:20260423T182535
CREATED:20250918T002508Z
LAST-MODIFIED:20250918T002604Z
UID:10001000-1810661400-1810661400@bayareafilmsociety.org
SUMMARY:BAFS Board meeting
DESCRIPTION:
URL:https://bayareafilmsociety.org/event/bafs-board-meeting-13/2027-05-18/
LOCATION:Historic Bay Theater\, 420 Main Street West\, Ashland\, WI\, 54806
END:VEVENT
BEGIN:VEVENT
DTSTART;TZID=America/Chicago:20270615T173000
DTEND;TZID=America/Chicago:20270615T173000
DTSTAMP:20260423T182535
CREATED:20250918T002508Z
LAST-MODIFIED:20250918T002604Z
UID:10001001-1813080600-1813080600@bayareafilmsociety.org
SUMMARY:BAFS Board meeting
DESCRIPTION:
URL:https://bayareafilmsociety.org/event/bafs-board-meeting-13/2027-06-15/
LOCATION:Historic Bay Theater\, 420 Main Street West\, Ashland\, WI\, 54806
END:VEVENT
BEGIN:VEVENT
DTSTART;TZID=America/Chicago:20270720T173000
DTEND;TZID=America/Chicago:20270720T173000
DTSTAMP:20260423T182535
CREATED:20250918T002508Z
LAST-MODIFIED:20250918T002604Z
UID:10001002-1816104600-1816104600@bayareafilmsociety.org
SUMMARY:BAFS Board meeting
DESCRIPTION:
URL:https://bayareafilmsociety.org/event/bafs-board-meeting-13/2027-07-20/
LOCATION:Historic Bay Theater\, 420 Main Street West\, Ashland\, WI\, 54806
END:VEVENT
BEGIN:VEVENT
DTSTART;TZID=America/Chicago:20270817T173000
DTEND;TZID=America/Chicago:20270817T173000
DTSTAMP:20260423T182535
CREATED:20250918T002508Z
LAST-MODIFIED:20250918T002604Z
UID:10001003-1818523800-1818523800@bayareafilmsociety.org
SUMMARY:BAFS Board meeting
DESCRIPTION:
URL:https://bayareafilmsociety.org/event/bafs-board-meeting-13/2027-08-17/
LOCATION:Historic Bay Theater\, 420 Main Street West\, Ashland\, WI\, 54806
END:VEVENT
END:VCALENDAR