BEGIN:VCALENDAR
VERSION:2.0
PRODID:-//Bay Area Film Society - ECPv6.15.20//NONSGML v1.0//EN
CALSCALE:GREGORIAN
METHOD:PUBLISH
X-WR-CALNAME:Bay Area Film Society
X-ORIGINAL-URL:https://bayareafilmsociety.org
X-WR-CALDESC:Events for Bay Area Film Society
REFRESH-INTERVAL;VALUE=DURATION:PT1H
X-Robots-Tag:noindex
X-PUBLISHED-TTL:PT1H
BEGIN:VTIMEZONE
TZID:America/Chicago
BEGIN:DAYLIGHT
TZOFFSETFROM:-0600
TZOFFSETTO:-0500
TZNAME:CDT
DTSTART:20260308T080000
END:DAYLIGHT
BEGIN:STANDARD
TZOFFSETFROM:-0500
TZOFFSETTO:-0600
TZNAME:CST
DTSTART:20261101T070000
END:STANDARD
BEGIN:DAYLIGHT
TZOFFSETFROM:-0600
TZOFFSETTO:-0500
TZNAME:CDT
DTSTART:20270314T080000
END:DAYLIGHT
BEGIN:STANDARD
TZOFFSETFROM:-0500
TZOFFSETTO:-0600
TZNAME:CST
DTSTART:20271107T070000
END:STANDARD
BEGIN:DAYLIGHT
TZOFFSETFROM:-0600
TZOFFSETTO:-0500
TZNAME:CDT
DTSTART:20280312T080000
END:DAYLIGHT
BEGIN:STANDARD
TZOFFSETFROM:-0500
TZOFFSETTO:-0600
TZNAME:CST
DTSTART:20281105T070000
END:STANDARD
BEGIN:DAYLIGHT
TZOFFSETFROM:-0600
TZOFFSETTO:-0500
TZNAME:CDT
DTSTART:20290311T080000
END:DAYLIGHT
BEGIN:STANDARD
TZOFFSETFROM:-0500
TZOFFSETTO:-0600
TZNAME:CST
DTSTART:20291104T070000
END:STANDARD
BEGIN:DAYLIGHT
TZOFFSETFROM:-0600
TZOFFSETTO:-0500
TZNAME:CDT
DTSTART:20300310T080000
END:DAYLIGHT
BEGIN:STANDARD
TZOFFSETFROM:-0500
TZOFFSETTO:-0600
TZNAME:CST
DTSTART:20301103T070000
END:STANDARD
END:VTIMEZONE
BEGIN:VEVENT
DTSTART;TZID=America/Chicago:20270119T173000
DTEND;TZID=America/Chicago:20270119T173000
DTSTAMP:20260423T171819
CREATED:20250918T002508Z
LAST-MODIFIED:20250918T002604Z
UID:10000996-1800379800-1800379800@bayareafilmsociety.org
SUMMARY:BAFS Board meeting
DESCRIPTION:
URL:https://bayareafilmsociety.org/event/bafs-board-meeting-13/2027-01-19/
LOCATION:Historic Bay Theater\, 420 Main Street West\, Ashland\, WI\, 54806
END:VEVENT
BEGIN:VEVENT
DTSTART;TZID=America/Chicago:20270216T173000
DTEND;TZID=America/Chicago:20270216T173000
DTSTAMP:20260423T171819
CREATED:20250918T002508Z
LAST-MODIFIED:20250918T002604Z
UID:10000997-1802799000-1802799000@bayareafilmsociety.org
SUMMARY:BAFS Board meeting
DESCRIPTION:
URL:https://bayareafilmsociety.org/event/bafs-board-meeting-13/2027-02-16/
LOCATION:Historic Bay Theater\, 420 Main Street West\, Ashland\, WI\, 54806
END:VEVENT
BEGIN:VEVENT
DTSTART;TZID=America/Chicago:20270316T173000
DTEND;TZID=America/Chicago:20270316T173000
DTSTAMP:20260423T171819
CREATED:20250918T002508Z
LAST-MODIFIED:20250918T002604Z
UID:10000998-1805218200-1805218200@bayareafilmsociety.org
SUMMARY:BAFS Board meeting
DESCRIPTION:
URL:https://bayareafilmsociety.org/event/bafs-board-meeting-13/2027-03-16/
LOCATION:Historic Bay Theater\, 420 Main Street West\, Ashland\, WI\, 54806
END:VEVENT
BEGIN:VEVENT
DTSTART;TZID=America/Chicago:20270420T173000
DTEND;TZID=America/Chicago:20270420T173000
DTSTAMP:20260423T171819
CREATED:20250918T002508Z
LAST-MODIFIED:20250918T002604Z
UID:10000999-1808242200-1808242200@bayareafilmsociety.org
SUMMARY:BAFS Board meeting
DESCRIPTION:
URL:https://bayareafilmsociety.org/event/bafs-board-meeting-13/2027-04-20/
LOCATION:Historic Bay Theater\, 420 Main Street West\, Ashland\, WI\, 54806
END:VEVENT
BEGIN:VEVENT
DTSTART;TZID=America/Chicago:20270518T173000
DTEND;TZID=America/Chicago:20270518T173000
DTSTAMP:20260423T171819
CREATED:20250918T002508Z
LAST-MODIFIED:20250918T002604Z
UID:10001000-1810661400-1810661400@bayareafilmsociety.org
SUMMARY:BAFS Board meeting
DESCRIPTION:
URL:https://bayareafilmsociety.org/event/bafs-board-meeting-13/2027-05-18/
LOCATION:Historic Bay Theater\, 420 Main Street West\, Ashland\, WI\, 54806
END:VEVENT
BEGIN:VEVENT
DTSTART;TZID=America/Chicago:20270615T173000
DTEND;TZID=America/Chicago:20270615T173000
DTSTAMP:20260423T171819
CREATED:20250918T002508Z
LAST-MODIFIED:20250918T002604Z
UID:10001001-1813080600-1813080600@bayareafilmsociety.org
SUMMARY:BAFS Board meeting
DESCRIPTION:
URL:https://bayareafilmsociety.org/event/bafs-board-meeting-13/2027-06-15/
LOCATION:Historic Bay Theater\, 420 Main Street West\, Ashland\, WI\, 54806
END:VEVENT
BEGIN:VEVENT
DTSTART;TZID=America/Chicago:20270720T173000
DTEND;TZID=America/Chicago:20270720T173000
DTSTAMP:20260423T171819
CREATED:20250918T002508Z
LAST-MODIFIED:20250918T002604Z
UID:10001002-1816104600-1816104600@bayareafilmsociety.org
SUMMARY:BAFS Board meeting
DESCRIPTION:
URL:https://bayareafilmsociety.org/event/bafs-board-meeting-13/2027-07-20/
LOCATION:Historic Bay Theater\, 420 Main Street West\, Ashland\, WI\, 54806
END:VEVENT
BEGIN:VEVENT
DTSTART;TZID=America/Chicago:20270817T173000
DTEND;TZID=America/Chicago:20270817T173000
DTSTAMP:20260423T171819
CREATED:20250918T002508Z
LAST-MODIFIED:20250918T002604Z
UID:10001003-1818523800-1818523800@bayareafilmsociety.org
SUMMARY:BAFS Board meeting
DESCRIPTION:
URL:https://bayareafilmsociety.org/event/bafs-board-meeting-13/2027-08-17/
LOCATION:Historic Bay Theater\, 420 Main Street West\, Ashland\, WI\, 54806
END:VEVENT
BEGIN:VEVENT
DTSTART;TZID=America/Chicago:20270921T173000
DTEND;TZID=America/Chicago:20270921T173000
DTSTAMP:20260423T171819
CREATED:20250918T002508Z
LAST-MODIFIED:20250918T002604Z
UID:10001004-1821547800-1821547800@bayareafilmsociety.org
SUMMARY:BAFS Board meeting
DESCRIPTION:
URL:https://bayareafilmsociety.org/event/bafs-board-meeting-13/2027-09-21/
LOCATION:Historic Bay Theater\, 420 Main Street West\, Ashland\, WI\, 54806
END:VEVENT
BEGIN:VEVENT
DTSTART;TZID=America/Chicago:20271019T173000
DTEND;TZID=America/Chicago:20271019T173000
DTSTAMP:20260423T171819
CREATED:20250918T002508Z
LAST-MODIFIED:20250918T002604Z
UID:10001005-1823967000-1823967000@bayareafilmsociety.org
SUMMARY:BAFS Board meeting
DESCRIPTION:
URL:https://bayareafilmsociety.org/event/bafs-board-meeting-13/2027-10-19/
LOCATION:Historic Bay Theater\, 420 Main Street West\, Ashland\, WI\, 54806
END:VEVENT
BEGIN:VEVENT
DTSTART;TZID=America/Chicago:20271116T173000
DTEND;TZID=America/Chicago:20271116T173000
DTSTAMP:20260423T171819
CREATED:20250918T002508Z
LAST-MODIFIED:20250918T002604Z
UID:10001006-1826386200-1826386200@bayareafilmsociety.org
SUMMARY:BAFS Board meeting
DESCRIPTION:
URL:https://bayareafilmsociety.org/event/bafs-board-meeting-13/2027-11-16/
LOCATION:Historic Bay Theater\, 420 Main Street West\, Ashland\, WI\, 54806
END:VEVENT
BEGIN:VEVENT
DTSTART;TZID=America/Chicago:20271221T173000
DTEND;TZID=America/Chicago:20271221T173000
DTSTAMP:20260423T171819
CREATED:20250918T002508Z
LAST-MODIFIED:20250918T002604Z
UID:10001007-1829410200-1829410200@bayareafilmsociety.org
SUMMARY:BAFS Board meeting
DESCRIPTION:
URL:https://bayareafilmsociety.org/event/bafs-board-meeting-13/2027-12-21/
LOCATION:Historic Bay Theater\, 420 Main Street West\, Ashland\, WI\, 54806
END:VEVENT
BEGIN:VEVENT
DTSTART;TZID=America/Chicago:20280118T173000
DTEND;TZID=America/Chicago:20280118T173000
DTSTAMP:20260423T171819
CREATED:20250918T002508Z
LAST-MODIFIED:20250918T002604Z
UID:10001008-1831829400-1831829400@bayareafilmsociety.org
SUMMARY:BAFS Board meeting
DESCRIPTION:
URL:https://bayareafilmsociety.org/event/bafs-board-meeting-13/2028-01-18/
LOCATION:Historic Bay Theater\, 420 Main Street West\, Ashland\, WI\, 54806
END:VEVENT
BEGIN:VEVENT
DTSTART;TZID=America/Chicago:20280215T173000
DTEND;TZID=America/Chicago:20280215T173000
DTSTAMP:20260423T171819
CREATED:20250918T002508Z
LAST-MODIFIED:20250918T002604Z
UID:10001009-1834248600-1834248600@bayareafilmsociety.org
SUMMARY:BAFS Board meeting
DESCRIPTION:
URL:https://bayareafilmsociety.org/event/bafs-board-meeting-13/2028-02-15/
LOCATION:Historic Bay Theater\, 420 Main Street West\, Ashland\, WI\, 54806
END:VEVENT
BEGIN:VEVENT
DTSTART;TZID=America/Chicago:20280321T173000
DTEND;TZID=America/Chicago:20280321T173000
DTSTAMP:20260423T171819
CREATED:20250918T002508Z
LAST-MODIFIED:20250918T002604Z
UID:10001010-1837272600-1837272600@bayareafilmsociety.org
SUMMARY:BAFS Board meeting
DESCRIPTION:
URL:https://bayareafilmsociety.org/event/bafs-board-meeting-13/2028-03-21/
LOCATION:Historic Bay Theater\, 420 Main Street West\, Ashland\, WI\, 54806
END:VEVENT
BEGIN:VEVENT
DTSTART;TZID=America/Chicago:20280418T173000
DTEND;TZID=America/Chicago:20280418T173000
DTSTAMP:20260423T171819
CREATED:20250918T002508Z
LAST-MODIFIED:20250918T002604Z
UID:10001011-1839691800-1839691800@bayareafilmsociety.org
SUMMARY:BAFS Board meeting
DESCRIPTION:
URL:https://bayareafilmsociety.org/event/bafs-board-meeting-13/2028-04-18/
LOCATION:Historic Bay Theater\, 420 Main Street West\, Ashland\, WI\, 54806
END:VEVENT
BEGIN:VEVENT
DTSTART;TZID=America/Chicago:20280516T173000
DTEND;TZID=America/Chicago:20280516T173000
DTSTAMP:20260423T171819
CREATED:20250918T002508Z
LAST-MODIFIED:20250918T002604Z
UID:10001012-1842111000-1842111000@bayareafilmsociety.org
SUMMARY:BAFS Board meeting
DESCRIPTION:
URL:https://bayareafilmsociety.org/event/bafs-board-meeting-13/2028-05-16/
LOCATION:Historic Bay Theater\, 420 Main Street West\, Ashland\, WI\, 54806
END:VEVENT
BEGIN:VEVENT
DTSTART;TZID=America/Chicago:20280620T173000
DTEND;TZID=America/Chicago:20280620T173000
DTSTAMP:20260423T171819
CREATED:20250918T002508Z
LAST-MODIFIED:20250918T002604Z
UID:10001013-1845135000-1845135000@bayareafilmsociety.org
SUMMARY:BAFS Board meeting
DESCRIPTION:
URL:https://bayareafilmsociety.org/event/bafs-board-meeting-13/2028-06-20/
LOCATION:Historic Bay Theater\, 420 Main Street West\, Ashland\, WI\, 54806
END:VEVENT
BEGIN:VEVENT
DTSTART;TZID=America/Chicago:20280718T173000
DTEND;TZID=America/Chicago:20280718T173000
DTSTAMP:20260423T171819
CREATED:20250918T002508Z
LAST-MODIFIED:20250918T002604Z
UID:10001014-1847554200-1847554200@bayareafilmsociety.org
SUMMARY:BAFS Board meeting
DESCRIPTION:
URL:https://bayareafilmsociety.org/event/bafs-board-meeting-13/2028-07-18/
LOCATION:Historic Bay Theater\, 420 Main Street West\, Ashland\, WI\, 54806
END:VEVENT
BEGIN:VEVENT
DTSTART;TZID=America/Chicago:20280815T173000
DTEND;TZID=America/Chicago:20280815T173000
DTSTAMP:20260423T171819
CREATED:20250918T002508Z
LAST-MODIFIED:20250918T002604Z
UID:10001015-1849973400-1849973400@bayareafilmsociety.org
SUMMARY:BAFS Board meeting
DESCRIPTION:
URL:https://bayareafilmsociety.org/event/bafs-board-meeting-13/2028-08-15/
LOCATION:Historic Bay Theater\, 420 Main Street West\, Ashland\, WI\, 54806
END:VEVENT
BEGIN:VEVENT
DTSTART;TZID=America/Chicago:20280919T173000
DTEND;TZID=America/Chicago:20280919T173000
DTSTAMP:20260423T171819
CREATED:20250918T002508Z
LAST-MODIFIED:20250918T002604Z
UID:10001016-1852997400-1852997400@bayareafilmsociety.org
SUMMARY:BAFS Board meeting
DESCRIPTION:
URL:https://bayareafilmsociety.org/event/bafs-board-meeting-13/2028-09-19/
LOCATION:Historic Bay Theater\, 420 Main Street West\, Ashland\, WI\, 54806
END:VEVENT
BEGIN:VEVENT
DTSTART;TZID=America/Chicago:20281017T173000
DTEND;TZID=America/Chicago:20281017T173000
DTSTAMP:20260423T171819
CREATED:20250918T002508Z
LAST-MODIFIED:20250918T002604Z
UID:10001017-1855416600-1855416600@bayareafilmsociety.org
SUMMARY:BAFS Board meeting
DESCRIPTION:
URL:https://bayareafilmsociety.org/event/bafs-board-meeting-13/2028-10-17/
LOCATION:Historic Bay Theater\, 420 Main Street West\, Ashland\, WI\, 54806
END:VEVENT
BEGIN:VEVENT
DTSTART;TZID=America/Chicago:20281121T173000
DTEND;TZID=America/Chicago:20281121T173000
DTSTAMP:20260423T171819
CREATED:20250918T002508Z
LAST-MODIFIED:20250918T002604Z
UID:10001018-1858440600-1858440600@bayareafilmsociety.org
SUMMARY:BAFS Board meeting
DESCRIPTION:
URL:https://bayareafilmsociety.org/event/bafs-board-meeting-13/2028-11-21/
LOCATION:Historic Bay Theater\, 420 Main Street West\, Ashland\, WI\, 54806
END:VEVENT
BEGIN:VEVENT
DTSTART;TZID=America/Chicago:20281219T173000
DTEND;TZID=America/Chicago:20281219T173000
DTSTAMP:20260423T171819
CREATED:20250918T002508Z
LAST-MODIFIED:20250918T002604Z
UID:10001019-1860859800-1860859800@bayareafilmsociety.org
SUMMARY:BAFS Board meeting
DESCRIPTION:
URL:https://bayareafilmsociety.org/event/bafs-board-meeting-13/2028-12-19/
LOCATION:Historic Bay Theater\, 420 Main Street West\, Ashland\, WI\, 54806
END:VEVENT
BEGIN:VEVENT
DTSTART;TZID=America/Chicago:20290116T173000
DTEND;TZID=America/Chicago:20290116T173000
DTSTAMP:20260423T171819
CREATED:20250918T002508Z
LAST-MODIFIED:20250918T002604Z
UID:10001020-1863279000-1863279000@bayareafilmsociety.org
SUMMARY:BAFS Board meeting
DESCRIPTION:
URL:https://bayareafilmsociety.org/event/bafs-board-meeting-13/2029-01-16/
LOCATION:Historic Bay Theater\, 420 Main Street West\, Ashland\, WI\, 54806
END:VEVENT
BEGIN:VEVENT
DTSTART;TZID=America/Chicago:20290220T173000
DTEND;TZID=America/Chicago:20290220T173000
DTSTAMP:20260423T171819
CREATED:20250918T002508Z
LAST-MODIFIED:20250918T002604Z
UID:10001021-1866303000-1866303000@bayareafilmsociety.org
SUMMARY:BAFS Board meeting
DESCRIPTION:
URL:https://bayareafilmsociety.org/event/bafs-board-meeting-13/2029-02-20/
LOCATION:Historic Bay Theater\, 420 Main Street West\, Ashland\, WI\, 54806
END:VEVENT
BEGIN:VEVENT
DTSTART;TZID=America/Chicago:20290320T173000
DTEND;TZID=America/Chicago:20290320T173000
DTSTAMP:20260423T171819
CREATED:20250918T002508Z
LAST-MODIFIED:20250918T002604Z
UID:10001022-1868722200-1868722200@bayareafilmsociety.org
SUMMARY:BAFS Board meeting
DESCRIPTION:
URL:https://bayareafilmsociety.org/event/bafs-board-meeting-13/2029-03-20/
LOCATION:Historic Bay Theater\, 420 Main Street West\, Ashland\, WI\, 54806
END:VEVENT
BEGIN:VEVENT
DTSTART;TZID=America/Chicago:20290417T173000
DTEND;TZID=America/Chicago:20290417T173000
DTSTAMP:20260423T171819
CREATED:20250918T002508Z
LAST-MODIFIED:20250918T002604Z
UID:10001023-1871141400-1871141400@bayareafilmsociety.org
SUMMARY:BAFS Board meeting
DESCRIPTION:
URL:https://bayareafilmsociety.org/event/bafs-board-meeting-13/2029-04-17/
LOCATION:Historic Bay Theater\, 420 Main Street West\, Ashland\, WI\, 54806
END:VEVENT
BEGIN:VEVENT
DTSTART;TZID=America/Chicago:20290515T173000
DTEND;TZID=America/Chicago:20290515T173000
DTSTAMP:20260423T171819
CREATED:20250918T002508Z
LAST-MODIFIED:20250918T002604Z
UID:10001024-1873560600-1873560600@bayareafilmsociety.org
SUMMARY:BAFS Board meeting
DESCRIPTION:
URL:https://bayareafilmsociety.org/event/bafs-board-meeting-13/2029-05-15/
LOCATION:Historic Bay Theater\, 420 Main Street West\, Ashland\, WI\, 54806
END:VEVENT
BEGIN:VEVENT
DTSTART;TZID=America/Chicago:20290619T173000
DTEND;TZID=America/Chicago:20290619T173000
DTSTAMP:20260423T171819
CREATED:20250918T002508Z
LAST-MODIFIED:20250918T002604Z
UID:10001025-1876584600-1876584600@bayareafilmsociety.org
SUMMARY:BAFS Board meeting
DESCRIPTION:
URL:https://bayareafilmsociety.org/event/bafs-board-meeting-13/2029-06-19/
LOCATION:Historic Bay Theater\, 420 Main Street West\, Ashland\, WI\, 54806
END:VEVENT
END:VCALENDAR