BEGIN:VCALENDAR
VERSION:2.0
PRODID:-//Bay Area Film Society - ECPv6.15.20//NONSGML v1.0//EN
CALSCALE:GREGORIAN
METHOD:PUBLISH
X-WR-CALNAME:Bay Area Film Society
X-ORIGINAL-URL:https://bayareafilmsociety.org
X-WR-CALDESC:Events for Bay Area Film Society
REFRESH-INTERVAL;VALUE=DURATION:PT1H
X-Robots-Tag:noindex
X-PUBLISHED-TTL:PT1H
BEGIN:VTIMEZONE
TZID:America/Chicago
BEGIN:DAYLIGHT
TZOFFSETFROM:-0600
TZOFFSETTO:-0500
TZNAME:CDT
DTSTART:20230312T080000
END:DAYLIGHT
BEGIN:STANDARD
TZOFFSETFROM:-0500
TZOFFSETTO:-0600
TZNAME:CST
DTSTART:20231105T070000
END:STANDARD
BEGIN:DAYLIGHT
TZOFFSETFROM:-0600
TZOFFSETTO:-0500
TZNAME:CDT
DTSTART:20240310T080000
END:DAYLIGHT
BEGIN:STANDARD
TZOFFSETFROM:-0500
TZOFFSETTO:-0600
TZNAME:CST
DTSTART:20241103T070000
END:STANDARD
BEGIN:DAYLIGHT
TZOFFSETFROM:-0600
TZOFFSETTO:-0500
TZNAME:CDT
DTSTART:20250309T080000
END:DAYLIGHT
BEGIN:STANDARD
TZOFFSETFROM:-0500
TZOFFSETTO:-0600
TZNAME:CST
DTSTART:20251102T070000
END:STANDARD
BEGIN:DAYLIGHT
TZOFFSETFROM:-0600
TZOFFSETTO:-0500
TZNAME:CDT
DTSTART:20260308T080000
END:DAYLIGHT
BEGIN:STANDARD
TZOFFSETFROM:-0500
TZOFFSETTO:-0600
TZNAME:CST
DTSTART:20261101T070000
END:STANDARD
END:VTIMEZONE
BEGIN:VEVENT
DTSTART;TZID=America/Chicago:20250607T120000
DTEND;TZID=America/Chicago:20250607T200000
DTSTAMP:20260423T184021
CREATED:20250520T220738Z
LAST-MODIFIED:20250520T221105Z
UID:10000823-1749297600-1749326400@bayareafilmsociety.org
SUMMARY:4th Annual Stand with the Banned Music Festival
DESCRIPTION:Join the 4th Annual Stand with the Banned Music Festival! \nMusic\, food\, and talks will take place in the courtyard behind the bookstore. Screen printing will be next door at Penny Print Studio. \n12 pm Documentary: Banned Together: The Fight Against Censorship (90 min)\nVisionary teenagers\, public protests\, threats\, criminal charges\, and drama-filled school board meetings: this is the explosive world of BANNED TOGETHER\, the first feature documentary about fighting book bans and censorship in the U.S. This award-winning doc presented with the Vaughn Library and Bay Area Film Society. (Also showing Friday\, June 6 at 7 p.m.) \n1-4 pm Wear Your Mood: Screen Prints at Penny Print Studio\nPenny Print Studio will be screen printing original art with Ban the Fascists\, Save the Books on your tees. $10 fee. One (1) t-shirt per customer. Penny Print will also have T-shirts available for sale for screen printing or get your Honest Dog Books tee and print it on the back. \n2-3:15 pm Polka on Purpose  w/ Jan Lee\, Tom Mitchell\, Jane Aleckson\nPolkas & good time music as well as the annual sing-along of our original banned books anthem\, “When Will This Madness End?” \n3:30-5:15 pm Molly Otis & the Danger Band\nSinger\, songwriter\, fiddle\, mandolin\, guitar player\, and regional favorite Molly Otis fronts this country\, blues band. \n5:30-7:30 pm Spring Fed\nSpring Fed is a cooperation of the chillest musicians on the shores of Lake Superior. Funk\, Reggae\, Blues. \nHosted by Honest Dog Books and Penny Print Studio with thanks to major sponsorship from Big Top Chautauqua.
URL:https://bayareafilmsociety.org/event/4th-annual-stand-with-the-banned-music-festival/
LOCATION:Honest Dog Books\, 38 S 2nd St\, Bayfield\, WI\, 54814\, United States
CATEGORIES:Special Events
ATTACH;FMTTYPE=image/png:https://bayareafilmsociety.org/wp-content/uploads/2025/05/StandBanned.png
END:VEVENT
BEGIN:VEVENT
DTSTART;TZID=America/Chicago:20250411T193000
DTEND;TZID=America/Chicago:20250411T193000
DTSTAMP:20260423T184021
CREATED:20250315T152306Z
LAST-MODIFIED:20250319T162121Z
UID:10000257-1744399800-1744399800@bayareafilmsociety.org
SUMMARY:Flow
DESCRIPTION:Flow  (Latvian: Straume) is a 2024 animated adventure film directed by Gints Zilbalodis\, written and produced by Zilbalodis and Matīss Kaža. A Latvian\, French\, and Belgian co-production\, it features no dialogue and follows a cat trying to survive along with other animals in a seemingly post-apocalyptic world as the water level dramatically rises. \nBy [1]\, Fair use\, Link
URL:https://bayareafilmsociety.org/event/flow/
LOCATION:Historic Bay Theater\, 420 Main Street West\, Ashland\, WI\, 54806
CATEGORIES:Film Screening
ATTACH;FMTTYPE=image/jpeg:https://bayareafilmsociety.org/wp-content/uploads/2025/03/Flow_2024_film_poster.jpg
END:VEVENT
BEGIN:VEVENT
DTSTART;TZID=America/Chicago:20250411T170000
DTEND;TZID=America/Chicago:20250411T170000
DTSTAMP:20260423T184021
CREATED:20250315T152418Z
LAST-MODIFIED:20250319T161949Z
UID:10000258-1744390800-1744390800@bayareafilmsociety.org
SUMMARY:Flow
DESCRIPTION:Flow  (Latvian: Straume) is a 2024 animated adventure film directed by Gints Zilbalodis\, written and produced by Zilbalodis and Matīss Kaža. A Latvian\, French\, and Belgian co-production\, it features no dialogue and follows a cat trying to survive along with other animals in a seemingly post-apocalyptic world as the water level dramatically rises. \nBy [1]\, Fair use\, Link
URL:https://bayareafilmsociety.org/event/flow-2/
LOCATION:Historic Bay Theater\, 420 Main Street West\, Ashland\, WI\, 54806
CATEGORIES:Film Screening
ATTACH;FMTTYPE=image/jpeg:https://bayareafilmsociety.org/wp-content/uploads/2025/03/Flow_2024_film_poster.jpg
END:VEVENT
BEGIN:VEVENT
DTSTART;TZID=America/Chicago:20250314T180000
DTEND;TZID=America/Chicago:20250314T180000
DTSTAMP:20260423T184021
CREATED:20250116T222225Z
LAST-MODIFIED:20250319T162633Z
UID:10000256-1741975200-1741975200@bayareafilmsociety.org
SUMMARY:The Brutalist
DESCRIPTION:The Brutalist is a 2024 epic period drama film directed and produced by Brady Corbet\, who co-wrote the screenplay with Mona Fastvold. It stars Adrien Brody as a Hungarian-born Jewish Holocaust survivor who immigrates to the United States\, where he struggles to achieve the American Dream until a wealthy client changes his life. \nBy The poster art can or could be obtained from A24\, Focus Features\, Universal Pictures.\, Fair use\, Link
URL:https://bayareafilmsociety.org/event/the-brutalist/
LOCATION:Historic Bay Theater\, 420 Main Street West\, Ashland\, WI\, 54806
CATEGORIES:Film Screening
ATTACH;FMTTYPE=image/png:https://bayareafilmsociety.org/wp-content/uploads/2025/01/TheBrutalist2024.png
END:VEVENT
BEGIN:VEVENT
DTSTART;TZID=America/Chicago:20250221T193000
DTEND;TZID=America/Chicago:20250221T193000
DTSTAMP:20260423T184021
CREATED:20250116T221751Z
LAST-MODIFIED:20250319T162907Z
UID:10000254-1740166200-1740166200@bayareafilmsociety.org
SUMMARY:I'm Still Here
DESCRIPTION:﻿﻿I’m Still Here (Portuguese: Ainda Estou Aqui) is a 2024 political biographical drama film directed by Walter Salles from a screenplay by Murilo Hauser and Heitor Lorega\, based on Marcelo Rubens Paiva’s 2015 memoir of the same name. \nBy https://www.filmaffinity.com/es/filmimages.php?movie_id=121387\, Fair use\, Link
URL:https://bayareafilmsociety.org/event/im-still-here-2/
LOCATION:Historic Bay Theater\, 420 Main Street West\, Ashland\, WI\, 54806
CATEGORIES:Film Screening
ATTACH;FMTTYPE=image/jpeg:https://bayareafilmsociety.org/wp-content/uploads/2025/01/Im_Still_Here_poster.jpg
END:VEVENT
BEGIN:VEVENT
DTSTART;TZID=America/Chicago:20250221T170000
DTEND;TZID=America/Chicago:20250221T170000
DTSTAMP:20260423T184021
CREATED:20250116T221531Z
LAST-MODIFIED:20250319T162939Z
UID:10000253-1740157200-1740157200@bayareafilmsociety.org
SUMMARY:I'm Still Here
DESCRIPTION:I’m Still Here (Portuguese: Ainda Estou Aqui) is a 2024 political biographical drama film directed by Walter Salles from a screenplay by Murilo Hauser and Heitor Lorega\, based on Marcelo Rubens Paiva’s 2015 memoir of the same name. \nBy https://www.filmaffinity.com/es/filmimages.php?movie_id=121387\, Fair use\, Link
URL:https://bayareafilmsociety.org/event/im-still-here/
LOCATION:Historic Bay Theater\, 420 Main Street West\, Ashland\, WI\, 54806
CATEGORIES:Film Screening
ATTACH;FMTTYPE=image/jpeg:https://bayareafilmsociety.org/wp-content/uploads/2025/01/Im_Still_Here_poster.jpg
END:VEVENT
BEGIN:VEVENT
DTSTART;TZID=America/Chicago:20250131T193000
DTEND;TZID=America/Chicago:20250131T193000
DTSTAMP:20260423T184021
CREATED:20241219T022436Z
LAST-MODIFIED:20250319T163046Z
UID:10000252-1738351800-1738351800@bayareafilmsociety.org
SUMMARY:Anora
DESCRIPTION:Anora is a 2024 American comedy-drama film written\, directed\, and edited by Sean Baker. It follows the beleaguered marriage between Anora (Mikey Madison)\, a young sex worker\, and Vanya Zakharov (Mark Eydelshteyn)\, the son of a Russian oligarch. \nBy http://www.impawards.com/2024/anora_ver5.html\, Fair use\, Link
URL:https://bayareafilmsociety.org/event/anora-2/
LOCATION:Historic Bay Theater\, 420 Main Street West\, Ashland\, WI\, 54806
CATEGORIES:Film Screening
ATTACH;FMTTYPE=image/jpeg:https://bayareafilmsociety.org/wp-content/uploads/2024/11/Anora_2024_film_poster.jpg
END:VEVENT
BEGIN:VEVENT
DTSTART;TZID=America/Chicago:20250131T170000
DTEND;TZID=America/Chicago:20250131T170000
DTSTAMP:20260423T184021
CREATED:20241107T175031Z
LAST-MODIFIED:20250319T163114Z
UID:10000183-1738342800-1738342800@bayareafilmsociety.org
SUMMARY:Anora
DESCRIPTION:Anora is a 2024 American comedy-drama film written\, directed\, and edited by Sean Baker. It follows the beleaguered marriage between Anora (Mikey Madison)\, a young sex worker\, and Vanya Zakharov (Mark Eydelshteyn)\, the son of a Russian oligarch. \nBy http://www.impawards.com/2024/anora_ver5.html\, Fair use\, Link
URL:https://bayareafilmsociety.org/event/anora/
LOCATION:Historic Bay Theater\, 420 Main Street West\, Ashland\, WI\, 54806
CATEGORIES:Film Screening
ATTACH;FMTTYPE=image/jpeg:https://bayareafilmsociety.org/wp-content/uploads/2024/11/Anora_2024_film_poster.jpg
END:VEVENT
BEGIN:VEVENT
DTSTART;VALUE=DATE:20250117
DTEND;VALUE=DATE:20250119
DTSTAMP:20260423T184021
CREATED:20241107T172708Z
LAST-MODIFIED:20241107T174405Z
UID:10000181-1737072000-1737244799@bayareafilmsociety.org
SUMMARY:17th Big Water Film Festival
DESCRIPTION:17thbigwaterfilmfestival.org\nOur live Festival will be at the historic Bay Theater in Ashland on January 17-18\, 2025.\nOur virtual Festival will run one week before and one week after the live Festival\, from January 10 to January 26. Films to be announced soon.
URL:https://bayareafilmsociety.org/event/big-water-film-festival-3/
LOCATION:Historic Bay Theater\, 420 Main Street West\, Ashland\, WI\, 54806
CATEGORIES:Film Events
ATTACH;FMTTYPE=image/jpeg:https://bayareafilmsociety.org/wp-content/uploads/2023/12/bigwaterfilmlogo.jpg
END:VEVENT
BEGIN:VEVENT
DTSTART;TZID=America/Chicago:20250110T193000
DTEND;TZID=America/Chicago:20250110T193000
DTSTAMP:20260423T184021
CREATED:20241107T185455Z
LAST-MODIFIED:20250319T163234Z
UID:10000185-1736537400-1736537400@bayareafilmsociety.org
SUMMARY:Robot Dreams
DESCRIPTION:Robot Dreams is a 2023 animated tragicomedy film written and directed by Pablo Berger. A Spanish-French co-production\, it is based on the 2007 comic of the same name by Sara Varon. The film follows an unusual friendship between a dog and a robot in New York City in 1984. The film does not contain any dialogue. \nRobot Dreams had its world premiere at the 76th Cannes Film Festival on 21 May 2023\, in the Special Screenings section. It received critical acclaim and won Best Film in the Contrechamp section of the Annecy International Animation Film Festival as well as Best Independent Animated Feature at the 51st Annie Awards. It also won the Goya Award for Best Animated Film and the European Film Award for Best Animated Feature Film\, and was nominated for Best Animated Feature at the 96th Academy Awards. \nBy https://bteampictures.es/robot-dreams/\, Fair use\, Link
URL:https://bayareafilmsociety.org/event/robot-dreams-2/
LOCATION:Historic Bay Theater\, 420 Main Street West\, Ashland\, WI\, 54806
CATEGORIES:Film Screening
ATTACH;FMTTYPE=image/jpeg:https://bayareafilmsociety.org/wp-content/uploads/2024/11/Robot_Dreams_film_poster.jpg
END:VEVENT
BEGIN:VEVENT
DTSTART;TZID=America/Chicago:20250110T170000
DTEND;TZID=America/Chicago:20250110T170000
DTSTAMP:20260423T184021
CREATED:20241107T174728Z
LAST-MODIFIED:20250319T163257Z
UID:10000182-1736528400-1736528400@bayareafilmsociety.org
SUMMARY:Robot Dreams
DESCRIPTION:Robot Dreams is a 2023 animated tragicomedy film written and directed by Pablo Berger. A Spanish-French co-production\, it is based on the 2007 comic of the same name by Sara Varon. The film follows an unusual friendship between a dog and a robot in New York City in 1984. The film does not contain any dialogue. \nRobot Dreams had its world premiere at the 76th Cannes Film Festival on 21 May 2023\, in the Special Screenings section. It received critical acclaim and won Best Film in the Contrechamp section of the Annecy International Animation Film Festival as well as Best Independent Animated Feature at the 51st Annie Awards. It also won the Goya Award for Best Animated Film and the European Film Award for Best Animated Feature Film\, and was nominated for Best Animated Feature at the 96th Academy Awards. \nBy https://bteampictures.es/robot-dreams/\, Fair use\, Link
URL:https://bayareafilmsociety.org/event/robot-dreams/
LOCATION:Historic Bay Theater\, 420 Main Street West\, Ashland\, WI\, 54806
CATEGORIES:Film Screening
ATTACH;FMTTYPE=image/jpeg:https://bayareafilmsociety.org/wp-content/uploads/2024/11/Robot_Dreams_film_poster.jpg
END:VEVENT
BEGIN:VEVENT
DTSTART;TZID=America/Chicago:20241218T180000
DTEND;TZID=America/Chicago:20241218T180000
DTSTAMP:20260423T184021
CREATED:20241107T223526Z
LAST-MODIFIED:20250324T222419Z
UID:10000120-1734544800-1734544800@bayareafilmsociety.org
SUMMARY:BAFS Board meeting
DESCRIPTION:
URL:https://bayareafilmsociety.org/event/bafs-board-meeting-2-2/2024-12-18/
LOCATION:Vaughn Library\, 502 Main St W\,\, Ashland\, WI\, 54806\, United States
ATTACH;FMTTYPE=image/png:https://bayareafilmsociety.org/wp-content/uploads/2022/12/cropped-logo-alt.png
END:VEVENT
BEGIN:VEVENT
DTSTART;TZID=America/Chicago:20241206T193000
DTEND;TZID=America/Chicago:20241206T193000
DTSTAMP:20260423T184021
CREATED:20241107T184305Z
LAST-MODIFIED:20250319T163406Z
UID:10000184-1733513400-1733513400@bayareafilmsociety.org
SUMMARY:Kneecap
DESCRIPTION:Kneecap is a 2024 comedy-drama film depicting the rise of Belfast-based hip-hop trio\, Kneecap. The film stars the band members as themselves\, with Josie Walker\, Fionnuala Flaherty\, Jessica Reynolds\, Adam Best\, Simone Kirby\, and Michael Fassbender in supporting roles. \nThe film premiered at the 2024 Sundance Film Festival on 18 January\, the first film in the Irish language to do so\, where it won the NEXT Audience Award. Its Irish premiere at the 36th edition of the Galway Film Fleadh\, won Best Irish Film\, the Audience Award and the Irish Language Feature Film Award. \nBy Unknown – IMP Awards\, Fair use\, Link
URL:https://bayareafilmsociety.org/event/kneecap-2/
LOCATION:Historic Bay Theater\, 420 Main Street West\, Ashland\, WI\, 54806
CATEGORIES:Film Screening
ATTACH;FMTTYPE=image/jpeg:https://bayareafilmsociety.org/wp-content/uploads/2024/09/Kneecap_poster.jpg
END:VEVENT
BEGIN:VEVENT
DTSTART;TZID=America/Chicago:20241206T170000
DTEND;TZID=America/Chicago:20241206T170000
DTSTAMP:20260423T184021
CREATED:20240919T183254Z
LAST-MODIFIED:20250319T163432Z
UID:10000179-1733504400-1733504400@bayareafilmsociety.org
SUMMARY:Kneecap
DESCRIPTION:Kneecap is a 2024 comedy-drama film depicting the rise of Belfast-based hip-hop trio\, Kneecap. The film stars the band members as themselves\, with Josie Walker\, Fionnuala Flaherty\, Jessica Reynolds\, Adam Best\, Simone Kirby\, and Michael Fassbender in supporting roles. \nThe film premiered at the 2024 Sundance Film Festival on 18 January\, the first film in the Irish language to do so\, where it won the NEXT Audience Award. Its Irish premiere at the 36th edition of the Galway Film Fleadh\, won Best Irish Film\, the Audience Award and the Irish Language Feature Film Award. \nBy Unknown – IMP Awards\, Fair use\, Link
URL:https://bayareafilmsociety.org/event/kneecap/
LOCATION:Historic Bay Theater\, 420 Main Street West\, Ashland\, WI\, 54806
CATEGORIES:Film Screening
ATTACH;FMTTYPE=image/jpeg:https://bayareafilmsociety.org/wp-content/uploads/2024/09/Kneecap_poster.jpg
END:VEVENT
BEGIN:VEVENT
DTSTART;TZID=America/Chicago:20241120T180000
DTEND;TZID=America/Chicago:20241120T180000
DTSTAMP:20260423T184021
CREATED:20250324T221715Z
LAST-MODIFIED:20250324T221715Z
UID:10000386-1732125600-1732125600@bayareafilmsociety.org
SUMMARY:BAFS Board meeting
DESCRIPTION:
URL:https://bayareafilmsociety.org/event/bafs-board-meeting-4/
LOCATION:Vaughn Library\, 502 Main St W\,\, Ashland\, WI\, 54806\, United States
ATTACH;FMTTYPE=image/png:https://bayareafilmsociety.org/wp-content/uploads/2022/12/cropped-logo-alt.png
END:VEVENT
BEGIN:VEVENT
DTSTART;TZID=America/Chicago:20241120T180000
DTEND;TZID=America/Chicago:20241120T180000
DTSTAMP:20260423T184021
CREATED:20241107T223526Z
LAST-MODIFIED:20250324T222419Z
UID:10000119-1732125600-1732125600@bayareafilmsociety.org
SUMMARY:BAFS Board meeting
DESCRIPTION:
URL:https://bayareafilmsociety.org/event/bafs-board-meeting-2-2/2024-11-20/
LOCATION:Vaughn Library\, 502 Main St W\,\, Ashland\, WI\, 54806\, United States
ATTACH;FMTTYPE=image/png:https://bayareafilmsociety.org/wp-content/uploads/2022/12/cropped-logo-alt.png
END:VEVENT
BEGIN:VEVENT
DTSTART;TZID=America/Chicago:20241108T193000
DTEND;TZID=America/Chicago:20241108T193000
DTSTAMP:20260423T184021
CREATED:20240911T203026Z
LAST-MODIFIED:20250319T163542Z
UID:10000174-1731094200-1731094200@bayareafilmsociety.org
SUMMARY:Sugarcane
DESCRIPTION:Sugarcane is a 2024 documentary film\, directed by Julian Brave NoiseCat and Emily Kassie and produced by Emily Kassie and Kellen Quinn. It follows an investigation into the Canadian Indian residential school system\, igniting a reckoning in the lives of survivors and descendants. \nBy Variance Films – http://www.impawards.com/2024/sugarcane_xlg.html\, Fair use\, Link
URL:https://bayareafilmsociety.org/event/sugarcane/
LOCATION:Historic Bay Theater\, 420 Main Street West\, Ashland\, WI\, 54806
CATEGORIES:Film Screening
ATTACH;FMTTYPE=image/jpeg:https://bayareafilmsociety.org/wp-content/uploads/2024/09/Sugarcane_poster.jpg
END:VEVENT
BEGIN:VEVENT
DTSTART;TZID=America/Chicago:20241108T170000
DTEND;TZID=America/Chicago:20241108T170000
DTSTAMP:20260423T184021
CREATED:20240911T203228Z
LAST-MODIFIED:20250319T163608Z
UID:10000175-1731085200-1731085200@bayareafilmsociety.org
SUMMARY:Sugarcane
DESCRIPTION:Sugarcane is a 2024 documentary film\, directed by Julian Brave NoiseCat and Emily Kassie and produced by Emily Kassie and Kellen Quinn. It follows an investigation into the Canadian Indian residential school system\, igniting a reckoning in the lives of survivors and descendants. \nBy Variance Films – http://www.impawards.com/2024/sugarcane_xlg.html\, Fair use\, Link
URL:https://bayareafilmsociety.org/event/sugarcane-2/
LOCATION:Historic Bay Theater\, 420 Main Street West\, Ashland\, WI\, 54806
CATEGORIES:Film Screening
ATTACH;FMTTYPE=image/jpeg:https://bayareafilmsociety.org/wp-content/uploads/2024/09/Sugarcane_poster.jpg
END:VEVENT
BEGIN:VEVENT
DTSTART;TZID=America/Chicago:20241018T193000
DTEND;TZID=America/Chicago:20241018T193000
DTSTAMP:20260423T184021
CREATED:20240911T205709Z
LAST-MODIFIED:20250319T163830Z
UID:10000176-1729279800-1729279800@bayareafilmsociety.org
SUMMARY:Thelma
DESCRIPTION:Thelma is a 2024 American comedy-drama film written\, directed and edited by Josh Margolin. The film stars June Squibb\, Fred Hechinger\, Richard Roundtree\, Clark Gregg\, Parker Posey\, and Malcolm McDowell. \nThelma premiered at the 2024 Sundance Film Festival on January 18\, 2024\, and was released in the United States by Magnolia Pictures on June 21\, 2024. The film received overwhelmingly positive reviews and grossed $10 million worldwide. \nBy http://www.impawards.com/2024/thelma_xxlg.html\, Fair use\, Link
URL:https://bayareafilmsociety.org/event/thelma-2/
LOCATION:Historic Bay Theater\, 420 Main Street West\, Ashland\, WI\, 54806
CATEGORIES:Film Screening
ATTACH;FMTTYPE=image/jpeg:https://bayareafilmsociety.org/wp-content/uploads/2024/09/Thelma_2024_film_poster.jpg
END:VEVENT
BEGIN:VEVENT
DTSTART;TZID=America/Chicago:20241018T170000
DTEND;TZID=America/Chicago:20241018T170000
DTSTAMP:20260423T184021
CREATED:20240911T205704Z
LAST-MODIFIED:20250319T163858Z
UID:10000177-1729270800-1729270800@bayareafilmsociety.org
SUMMARY:Thelma
DESCRIPTION:Thelma is a 2024 American comedy-drama film written\, directed and edited by Josh Margolin. The film stars June Squibb\, Fred Hechinger\, Richard Roundtree\, Clark Gregg\, Parker Posey\, and Malcolm McDowell. \nThelma premiered at the 2024 Sundance Film Festival on January 18\, 2024\, and was released in the United States by Magnolia Pictures on June 21\, 2024. The film received overwhelmingly positive reviews and grossed $10 million worldwide. \nBy http://www.impawards.com/2024/thelma_xxlg.html\, Fair use\, Link
URL:https://bayareafilmsociety.org/event/thelma/
LOCATION:Historic Bay Theater\, 420 Main Street West\, Ashland\, WI\, 54806
CATEGORIES:Film Screening
ATTACH;FMTTYPE=image/jpeg:https://bayareafilmsociety.org/wp-content/uploads/2024/09/Thelma_2024_film_poster.jpg
END:VEVENT
BEGIN:VEVENT
DTSTART;TZID=America/Chicago:20241016T180000
DTEND;TZID=America/Chicago:20241016T180000
DTSTAMP:20260423T184021
CREATED:20250324T223659Z
LAST-MODIFIED:20250324T223702Z
UID:10000118-1729101600-1729101600@bayareafilmsociety.org
SUMMARY:BAFS Board meeting
DESCRIPTION:
URL:https://bayareafilmsociety.org/event/bafs-board-meeting-2-3/
LOCATION:Vaughn Library\, 502 Main St W\,\, Ashland\, WI\, 54806\, United States
ATTACH;FMTTYPE=image/png:https://bayareafilmsociety.org/wp-content/uploads/2022/12/cropped-logo-alt.png
END:VEVENT
BEGIN:VEVENT
DTSTART;TZID=America/Chicago:20240821T180000
DTEND;TZID=America/Chicago:20240821T180000
DTSTAMP:20260423T184021
CREATED:20250324T222828Z
LAST-MODIFIED:20250324T222828Z
UID:10000387-1724263200-1724263200@bayareafilmsociety.org
SUMMARY:BAFS Board meeting
DESCRIPTION:
URL:https://bayareafilmsociety.org/event/bafs-board-meeting-6/
LOCATION:Vaughn Library\, 502 Main St W\,\, Ashland\, WI\, 54806\, United States
ATTACH;FMTTYPE=image/png:https://bayareafilmsociety.org/wp-content/uploads/2022/12/cropped-logo-alt.png
END:VEVENT
BEGIN:VEVENT
DTSTART;TZID=America/Chicago:20240504T193000
DTEND;TZID=America/Chicago:20240504T193000
DTSTAMP:20260423T184021
CREATED:20240229T222658Z
LAST-MODIFIED:20240229T222946Z
UID:10000113-1714851000-1714851000@bayareafilmsociety.org
SUMMARY:Super Secret Screening
DESCRIPTION:This is a free event for invited folks only!  \nSponsored by A to Z Plumbing & Heating
URL:https://bayareafilmsociety.org/event/super-secret-screening/
LOCATION:Historic Bay Theater\, 420 Main Street West\, Ashland\, WI\, 54806
CATEGORIES:Film Screening
ATTACH;FMTTYPE=image/png:https://bayareafilmsociety.org/wp-content/uploads/2022/12/cropped-logo-alt.png
END:VEVENT
BEGIN:VEVENT
DTSTART;TZID=America/Chicago:20240504T173000
DTEND;TZID=America/Chicago:20240504T173000
DTSTAMP:20260423T184021
CREATED:20240229T222424Z
LAST-MODIFIED:20240229T222747Z
UID:10000112-1714843800-1714843800@bayareafilmsociety.org
SUMMARY:Member/Sponsor/Volunteer Party
DESCRIPTION:
URL:https://bayareafilmsociety.org/event/member-sponsor-volunteer-party/
LOCATION:The Black Cat Coffeehouse\, 211 Chapple Ave.\, Ashland\, WI\, 54806\, United States
CATEGORIES:Special Events
ATTACH;FMTTYPE=image/png:https://bayareafilmsociety.org/wp-content/uploads/2022/12/cropped-logo-alt.png
END:VEVENT
BEGIN:VEVENT
DTSTART;TZID=America/Chicago:20240417T180000
DTEND;TZID=America/Chicago:20240417T180000
DTSTAMP:20260423T184021
CREATED:20250324T222008Z
LAST-MODIFIED:20250324T222010Z
UID:10000042-1713376800-1713376800@bayareafilmsociety.org
SUMMARY:BAFS Board meeting
DESCRIPTION:
URL:https://bayareafilmsociety.org/event/bafs-board-meeting-5/
LOCATION:Vaughn Library\, 502 Main St W\,\, Ashland\, WI\, 54806\, United States
ATTACH;FMTTYPE=image/png:https://bayareafilmsociety.org/wp-content/uploads/2022/12/cropped-logo-alt.png
END:VEVENT
BEGIN:VEVENT
DTSTART;TZID=America/Chicago:20240412T193000
DTEND;TZID=America/Chicago:20240412T193000
DTSTAMP:20260423T184021
CREATED:20240223T155731Z
LAST-MODIFIED:20250319T164248Z
UID:10000110-1712950200-1712950200@bayareafilmsociety.org
SUMMARY:Perfect Days
DESCRIPTION:﻿﻿Perfect Days is a 2023 drama film directed by Wim Wenders\, from a script written by Wenders and Takuma Takasaki. A co-production between Japan and Germany\, the film combines four short stories and stars Kōji Yakusho in the role of a toilet cleaner. \nSponsored by The Bayfield Inn. \nBy [1]\, Fair use\, Link
URL:https://bayareafilmsociety.org/event/tba/
LOCATION:Historic Bay Theater\, 420 Main Street West\, Ashland\, WI\, 54806
CATEGORIES:Film Screening
ATTACH;FMTTYPE=image/jpeg:https://bayareafilmsociety.org/wp-content/uploads/2024/02/Perfect_Days_poster.jpg
END:VEVENT
BEGIN:VEVENT
DTSTART;TZID=America/Chicago:20240412T170000
DTEND;TZID=America/Chicago:20240412T170000
DTSTAMP:20260423T184021
CREATED:20240223T155842Z
LAST-MODIFIED:20250319T164324Z
UID:10000111-1712941200-1712941200@bayareafilmsociety.org
SUMMARY:Perfect Days
DESCRIPTION:Perfect Days is a 2023 drama film directed by Wim Wenders\, from a script written by Wenders and Takuma Takasaki. A co-production between Japan and Germany\, the film combines four short stories and stars Kōji Yakusho in the role of a toilet cleaner. \nSponsored by The Bayfield Inn. \nBy [1]\, Fair use\, Link
URL:https://bayareafilmsociety.org/event/perfect-days-2/
LOCATION:Historic Bay Theater\, 420 Main Street West\, Ashland\, WI\, 54806
CATEGORIES:Film Screening
ATTACH;FMTTYPE=image/jpeg:https://bayareafilmsociety.org/wp-content/uploads/2024/02/Perfect_Days_poster.jpg
END:VEVENT
BEGIN:VEVENT
DTSTART;TZID=America/Chicago:20240322T193000
DTEND;TZID=America/Chicago:20240322T193000
DTSTAMP:20260423T184021
CREATED:20240130T181118Z
LAST-MODIFIED:20240216T222436Z
UID:10000109-1711135800-1711135800@bayareafilmsociety.org
SUMMARY:The Zone of Interest
DESCRIPTION:The Zone of Interest is a 2023 historical drama film written and directed by Jonathan Glazer\, loosely based on the 2014 novel by Martin Amis. It was a co-production between the United States\, the United Kingdom and Poland. It stars Christian Friedel as the German Nazi commandant Rudolf Höss\, who strives to build a dream life with his wife\, Hedwig (Sandra Hüller)\, in a new home next to the German Auschwitz concentration camp.
URL:https://bayareafilmsociety.org/event/the-zone-of-interest-2/
LOCATION:Historic Bay Theater\, 420 Main Street West\, Ashland\, WI\, 54806
CATEGORIES:Film Screening
ATTACH;FMTTYPE=image/jpeg:https://bayareafilmsociety.org/wp-content/uploads/2024/01/The_Zone_of_Interest_film_poster.jpg
END:VEVENT
BEGIN:VEVENT
DTSTART;TZID=America/Chicago:20240322T170000
DTEND;TZID=America/Chicago:20240322T170000
DTSTAMP:20260423T184021
CREATED:20240130T180655Z
LAST-MODIFIED:20240216T222341Z
UID:10000108-1711126800-1711126800@bayareafilmsociety.org
SUMMARY:The Zone of Interest
DESCRIPTION:The Zone of Interest is a 2023 historical drama film written and directed by Jonathan Glazer\, loosely based on the 2014 novel by Martin Amis. It was a co-production between the United States\, the United Kingdom and Poland. It stars Christian Friedel as the German Nazi commandant Rudolf Höss\, who strives to build a dream life with his wife\, Hedwig (Sandra Hüller)\, in a new home next to the German Auschwitz concentration camp.
URL:https://bayareafilmsociety.org/event/the-zone-of-interest/
LOCATION:Historic Bay Theater\, 420 Main Street West\, Ashland\, WI\, 54806
CATEGORIES:Film Screening
ATTACH;FMTTYPE=image/jpeg:https://bayareafilmsociety.org/wp-content/uploads/2024/01/The_Zone_of_Interest_film_poster.jpg
END:VEVENT
BEGIN:VEVENT
DTSTART;TZID=America/Chicago:20240320T180000
DTEND;TZID=America/Chicago:20240320T180000
DTSTAMP:20260423T184021
CREATED:20250324T223552Z
LAST-MODIFIED:20250324T223554Z
UID:10000041-1710957600-1710957600@bayareafilmsociety.org
SUMMARY:BAFS Board meeting
DESCRIPTION:
URL:https://bayareafilmsociety.org/event/bafs-board-meeting-7/
LOCATION:Vaughn Library\, 502 Main St W\,\, Ashland\, WI\, 54806\, United States
ATTACH;FMTTYPE=image/png:https://bayareafilmsociety.org/wp-content/uploads/2022/12/cropped-logo-alt.png
END:VEVENT
END:VCALENDAR