BEGIN:VCALENDAR
VERSION:2.0
PRODID:-//Bay Area Film Society - ECPv6.15.20//NONSGML v1.0//EN
CALSCALE:GREGORIAN
METHOD:PUBLISH
X-ORIGINAL-URL:https://bayareafilmsociety.org
X-WR-CALDESC:Events for Bay Area Film Society
REFRESH-INTERVAL;VALUE=DURATION:PT1H
X-Robots-Tag:noindex
X-PUBLISHED-TTL:PT1H
BEGIN:VTIMEZONE
TZID:America/Chicago
BEGIN:DAYLIGHT
TZOFFSETFROM:-0600
TZOFFSETTO:-0500
TZNAME:CDT
DTSTART:20220313T080000
END:DAYLIGHT
BEGIN:STANDARD
TZOFFSETFROM:-0500
TZOFFSETTO:-0600
TZNAME:CST
DTSTART:20221106T070000
END:STANDARD
BEGIN:DAYLIGHT
TZOFFSETFROM:-0600
TZOFFSETTO:-0500
TZNAME:CDT
DTSTART:20230312T080000
END:DAYLIGHT
BEGIN:STANDARD
TZOFFSETFROM:-0500
TZOFFSETTO:-0600
TZNAME:CST
DTSTART:20231105T070000
END:STANDARD
BEGIN:DAYLIGHT
TZOFFSETFROM:-0600
TZOFFSETTO:-0500
TZNAME:CDT
DTSTART:20240310T080000
END:DAYLIGHT
BEGIN:STANDARD
TZOFFSETFROM:-0500
TZOFFSETTO:-0600
TZNAME:CST
DTSTART:20241103T070000
END:STANDARD
END:VTIMEZONE
BEGIN:VEVENT
DTSTART;TZID=America/Chicago:20230414T170000
DTEND;TZID=America/Chicago:20230414T170000
DTSTAMP:20260425T162330
CREATED:20230323T023906Z
LAST-MODIFIED:20230414T222554Z
UID:10000027-1681491600-1681491600@bayareafilmsociety.org
SUMMARY:Everything Everywhere All at Once
DESCRIPTION:Everything Everywhere All at Once is a 2022 American absurdist comedy-drama film written and directed by Daniel Kwan and Daniel Scheinert (collectively known as “Daniels”)\, who produced it with Anthony and Joe Russo and Jonathan Wang. It follows Evelyn Wang\, a Chinese-American immigrant who\, while being audited by the IRS\, must connect with parallel universe versions of herself to prevent a powerful being from destroying the multiverse. Michelle Yeoh stars as Evelyn\, with Stephanie Hsu\, Ke Huy Quan\, Jenny Slate\, Harry Shum Jr.\, James Hong\, and Jamie Lee Curtis in supporting roles.
URL:https://bayareafilmsociety.org/event/everything-everywhere-all-at-once/
LOCATION:Historic Bay Theater\, 420 Main Street West\, Ashland\, WI\, 54806
CATEGORIES:Film Screening
ATTACH;FMTTYPE=image/jpeg:https://bayareafilmsociety.org/wp-content/uploads/2023/03/Everything_Everywhere_All_at_Once.jpg
END:VEVENT
BEGIN:VEVENT
DTSTART;TZID=America/Chicago:20230414T193000
DTEND;TZID=America/Chicago:20230414T193000
DTSTAMP:20260425T162330
CREATED:20230315T211710Z
LAST-MODIFIED:20230414T221451Z
UID:10000025-1681500600-1681500600@bayareafilmsociety.org
SUMMARY:Everything Everywhere All at Once
DESCRIPTION:Everything Everywhere All at Once is a 2022 American absurdist comedy-drama film written and directed by Daniel Kwan and Daniel Scheinert (collectively known as “Daniels”)\, who produced it with Anthony and Joe Russo and Jonathan Wang. It follows Evelyn Wang\, a Chinese-American immigrant who\, while being audited by the IRS\, must connect with parallel universe versions of herself to prevent a powerful being from destroying the multiverse. Michelle Yeoh stars as Evelyn\, with Stephanie Hsu\, Ke Huy Quan\, Jenny Slate\, Harry Shum Jr.\, James Hong\, and Jamie Lee Curtis in supporting roles.
URL:https://bayareafilmsociety.org/event/everything/
LOCATION:Historic Bay Theater\, 420 Main Street West\, Ashland\, WI\, 54806
CATEGORIES:Film Screening
ATTACH;FMTTYPE=image/jpeg:https://bayareafilmsociety.org/wp-content/uploads/2023/03/Everything_Everywhere_All_at_Once.jpg
END:VEVENT
BEGIN:VEVENT
DTSTART;TZID=America/Chicago:20230420T190000
DTEND;TZID=America/Chicago:20230420T190000
DTSTAMP:20260425T162330
CREATED:20230329T163628Z
LAST-MODIFIED:20230329T163628Z
UID:10000029-1682017200-1682017200@bayareafilmsociety.org
SUMMARY:Polyfaces
DESCRIPTION:Polyfaces is a joyful film about connecting to the land and the community. Produced over 4 years it follows the Salatins\, a 4th generation farming family who do ‘everything different to everyone else’ as they produce food in a way that works with nature\, not against it. \nFREE showing sponsored by the Ashland/Bayfield Chapter of the Wisconsin Farmers Union \n1 hour 30 minutes\nNot Rated
URL:https://bayareafilmsociety.org/event/polyfaces-2/
LOCATION:Historic Bay Theater\, 420 Main Street West\, Ashland\, WI\, 54806
CATEGORIES:Film Screening
ATTACH;FMTTYPE=image/jpeg:https://bayareafilmsociety.org/wp-content/uploads/2023/03/polyfaces.jpg
END:VEVENT
BEGIN:VEVENT
DTSTART;TZID=America/Chicago:20230428T193000
DTEND;TZID=America/Chicago:20230428T193000
DTSTAMP:20260425T162330
CREATED:20230315T212608Z
LAST-MODIFIED:20230315T212608Z
UID:10000026-1682710200-1682710200@bayareafilmsociety.org
SUMMARY:Super Secret Screening TBA
DESCRIPTION:(Sponsors/Volunteers/Members only)
URL:https://bayareafilmsociety.org/event/super-secret-screening-tba/
LOCATION:Historic Bay Theater\, 420 Main Street West\, Ashland\, WI\, 54806
CATEGORIES:Film Screening
END:VEVENT
END:VCALENDAR