BEGIN:VCALENDAR
VERSION:2.0
PRODID:-//Bay Area Film Society - ECPv6.15.20//NONSGML v1.0//EN
CALSCALE:GREGORIAN
METHOD:PUBLISH
X-ORIGINAL-URL:https://bayareafilmsociety.org
X-WR-CALDESC:Events for Bay Area Film Society
REFRESH-INTERVAL;VALUE=DURATION:PT1H
X-Robots-Tag:noindex
X-PUBLISHED-TTL:PT1H
BEGIN:VTIMEZONE
TZID:America/Chicago
BEGIN:DAYLIGHT
TZOFFSETFROM:-0600
TZOFFSETTO:-0500
TZNAME:CDT
DTSTART:20220313T080000
END:DAYLIGHT
BEGIN:STANDARD
TZOFFSETFROM:-0500
TZOFFSETTO:-0600
TZNAME:CST
DTSTART:20221106T070000
END:STANDARD
BEGIN:DAYLIGHT
TZOFFSETFROM:-0600
TZOFFSETTO:-0500
TZNAME:CDT
DTSTART:20230312T080000
END:DAYLIGHT
BEGIN:STANDARD
TZOFFSETFROM:-0500
TZOFFSETTO:-0600
TZNAME:CST
DTSTART:20231105T070000
END:STANDARD
BEGIN:DAYLIGHT
TZOFFSETFROM:-0600
TZOFFSETTO:-0500
TZNAME:CDT
DTSTART:20240310T080000
END:DAYLIGHT
BEGIN:STANDARD
TZOFFSETFROM:-0500
TZOFFSETTO:-0600
TZNAME:CST
DTSTART:20241103T070000
END:STANDARD
END:VTIMEZONE
BEGIN:VEVENT
DTSTART;TZID=America/Chicago:20230623T213000
DTEND;TZID=America/Chicago:20230623T213000
DTSTAMP:20260425T132612
CREATED:20230523T215057Z
LAST-MODIFIED:20230523T215306Z
UID:10000090-1687555800-1687555800@bayareafilmsociety.org
SUMMARY:The Adventures of Priscilla\, Queen of the Desert
DESCRIPTION:The Adventures of Priscilla\, Queen of the Desert is a 1994 Australian road comedy film written and directed by Stephan Elliott. The plot follows two drag queens\, played by Hugo Weaving and Guy Pearce\, and a transgender woman\, played by Terence Stamp\, as they journey across the Australian Outback from Sydney to Alice Springs in a tour bus that they have named “Priscilla”\, along the way encountering various groups and individuals. \n1 hour 43 minutes\nRated R for sex-related situations and language
URL:https://bayareafilmsociety.org/event/the-adventures-of-priscilla-queen-of-the-desert/
LOCATION:Historic Bay Theater\, 420 Main Street West\, Ashland\, WI\, 54806
CATEGORIES:Film Screening
ATTACH;FMTTYPE=image/jpeg:https://bayareafilmsociety.org/wp-content/uploads/2023/05/Priscilla_the_Queen.jpg
END:VEVENT
END:VCALENDAR