BEGIN:VCALENDAR
VERSION:2.0
PRODID:-//Bay Area Film Society - ECPv6.15.20//NONSGML v1.0//EN
CALSCALE:GREGORIAN
METHOD:PUBLISH
X-ORIGINAL-URL:https://bayareafilmsociety.org
X-WR-CALDESC:Events for Bay Area Film Society
REFRESH-INTERVAL;VALUE=DURATION:PT1H
X-Robots-Tag:noindex
X-PUBLISHED-TTL:PT1H
BEGIN:VTIMEZONE
TZID:America/Chicago
BEGIN:DAYLIGHT
TZOFFSETFROM:-0600
TZOFFSETTO:-0500
TZNAME:CDT
DTSTART:20240310T080000
END:DAYLIGHT
BEGIN:STANDARD
TZOFFSETFROM:-0500
TZOFFSETTO:-0600
TZNAME:CST
DTSTART:20241103T070000
END:STANDARD
BEGIN:DAYLIGHT
TZOFFSETFROM:-0600
TZOFFSETTO:-0500
TZNAME:CDT
DTSTART:20250309T080000
END:DAYLIGHT
BEGIN:STANDARD
TZOFFSETFROM:-0500
TZOFFSETTO:-0600
TZNAME:CST
DTSTART:20251102T070000
END:STANDARD
BEGIN:DAYLIGHT
TZOFFSETFROM:-0600
TZOFFSETTO:-0500
TZNAME:CDT
DTSTART:20260308T080000
END:DAYLIGHT
BEGIN:STANDARD
TZOFFSETFROM:-0500
TZOFFSETTO:-0600
TZNAME:CST
DTSTART:20261101T070000
END:STANDARD
END:VTIMEZONE
BEGIN:VEVENT
DTSTART;TZID=America/Chicago:20250926T170000
DTEND;TZID=America/Chicago:20250926T170000
DTSTAMP:20260423T210354
CREATED:20250904T232340Z
LAST-MODIFIED:20250905T153929Z
UID:10000844-1758906000-1758906000@bayareafilmsociety.org
SUMMARY:Jane Austen Wrecked My Life
DESCRIPTION:Jane Austen Wrecked My Life (French: Jane Austen a gâché ma vie) is a 2024 French romantic comedy film written and directed by Laura Piani. \nThe film had its world premiere at the Toronto International Film Festival on 9 September 2024. It was released in France on 22 January 2025 and in the United States by Sony Pictures Classics on May 23\, 2025. \nBy https://paname-distribution.com/catalog/jane-austen-a-gache-ma-vie\, Fair use\, Link
URL:https://bayareafilmsociety.org/event/jane-austen-wrecked-my-life-2/
LOCATION:Historic Bay Theater\, 420 Main Street West\, Ashland\, WI\, 54806
CATEGORIES:Film Screening
ATTACH;FMTTYPE=image/jpeg:https://bayareafilmsociety.org/wp-content/uploads/2025/08/Jane_Austen_Wrecked_My_Life.jpg
END:VEVENT
BEGIN:VEVENT
DTSTART;TZID=America/Chicago:20250926T193000
DTEND;TZID=America/Chicago:20250926T193000
DTSTAMP:20260423T210354
CREATED:20250820T180701Z
LAST-MODIFIED:20250905T154056Z
UID:10000824-1758915000-1758915000@bayareafilmsociety.org
SUMMARY:Jane Austen Wrecked My Life
DESCRIPTION:﻿Jane Austen Wrecked My Life (French: Jane Austen a gâché ma vie) is a 2024 French romantic comedy film written and directed by Laura Piani. \nThe film had its world premiere at the Toronto International Film Festival on 9 September 2024. It was released in France on 22 January 2025 and in the United States by Sony Pictures Classics on May 23\, 2025. \nBy https://paname-distribution.com/catalog/jane-austen-a-gache-ma-vie\, Fair use\, Link
URL:https://bayareafilmsociety.org/event/jane-austen-wrecked-my-life-1/
LOCATION:Historic Bay Theater\, 420 Main Street West\, Ashland\, WI\, 54806
CATEGORIES:Film Screening
ATTACH;FMTTYPE=image/jpeg:https://bayareafilmsociety.org/wp-content/uploads/2025/08/Jane_Austen_Wrecked_My_Life.jpg
END:VEVENT
END:VCALENDAR