BEGIN:VCALENDAR
VERSION:2.0
PRODID:-//Bay Area Film Society - ECPv6.15.20//NONSGML v1.0//EN
CALSCALE:GREGORIAN
METHOD:PUBLISH
X-WR-CALNAME:Bay Area Film Society
X-ORIGINAL-URL:https://bayareafilmsociety.org
X-WR-CALDESC:Events for Bay Area Film Society
REFRESH-INTERVAL;VALUE=DURATION:PT1H
X-Robots-Tag:noindex
X-PUBLISHED-TTL:PT1H
BEGIN:VTIMEZONE
TZID:America/Chicago
BEGIN:DAYLIGHT
TZOFFSETFROM:-0600
TZOFFSETTO:-0500
TZNAME:CDT
DTSTART:20240310T080000
END:DAYLIGHT
BEGIN:STANDARD
TZOFFSETFROM:-0500
TZOFFSETTO:-0600
TZNAME:CST
DTSTART:20241103T070000
END:STANDARD
BEGIN:DAYLIGHT
TZOFFSETFROM:-0600
TZOFFSETTO:-0500
TZNAME:CDT
DTSTART:20250309T080000
END:DAYLIGHT
BEGIN:STANDARD
TZOFFSETFROM:-0500
TZOFFSETTO:-0600
TZNAME:CST
DTSTART:20251102T070000
END:STANDARD
BEGIN:DAYLIGHT
TZOFFSETFROM:-0600
TZOFFSETTO:-0500
TZNAME:CDT
DTSTART:20260308T080000
END:DAYLIGHT
BEGIN:STANDARD
TZOFFSETFROM:-0500
TZOFFSETTO:-0600
TZNAME:CST
DTSTART:20261101T070000
END:STANDARD
END:VTIMEZONE
BEGIN:VEVENT
DTSTART;TZID=America/Chicago:20251107T170000
DTEND;TZID=America/Chicago:20251107T170000
DTSTAMP:20260423T181823
CREATED:20251007T210907Z
LAST-MODIFIED:20251007T212123Z
UID:10001042-1762534800-1762534800@bayareafilmsociety.org
SUMMARY:Folktales
DESCRIPTION:Folktales is a 2025 documentary film\, directed and produced by Heidi Ewing and Rachel Grady. It follows teenagers at a folk high school in Norway\, where they must rely on each other and a pack of sled dogs as they grow. \nIt had its world premiere at the 2025 Sundance Film Festival on January 25\, 2025\, and was released in the United States on July 25\, 2025\, by Magnolia Pictures. \nThis film proudly sponsored by Honest Dog Books. \nBy Studio and or Graphic Artist – [1]\, Fair use\, Link
URL:https://bayareafilmsociety.org/event/folktales/
LOCATION:Historic Bay Theater\, 420 Main Street West\, Ashland\, WI\, 54806
CATEGORIES:Film Screening
ATTACH;FMTTYPE=image/jpeg:https://bayareafilmsociety.org/wp-content/uploads/2025/08/Folktales_poster.jpg
END:VEVENT
BEGIN:VEVENT
DTSTART;TZID=America/Chicago:20251107T193000
DTEND;TZID=America/Chicago:20251107T193000
DTSTAMP:20260423T181823
CREATED:20251007T210456Z
LAST-MODIFIED:20251007T212053Z
UID:10001041-1762543800-1762543800@bayareafilmsociety.org
SUMMARY:Folktales
DESCRIPTION:Folktales is a 2025 documentary film\, directed and produced by Heidi Ewing and Rachel Grady. It follows teenagers at a folk high school in Norway\, where they must rely on each other and a pack of sled dogs as they grow. \nIt had its world premiere at the 2025 Sundance Film Festival on January 25\, 2025\, and was released in the United States on July 25\, 2025\, by Magnolia Pictures. \nThis film proudly sponsored by Honest Dog Books. \nBy Studio and or Graphic Artist – [1]\, Fair use\, Link
URL:https://bayareafilmsociety.org/event/folktales-2/
LOCATION:Historic Bay Theater\, 420 Main Street West\, Ashland\, WI\, 54806
CATEGORIES:Film Screening
ATTACH;FMTTYPE=image/jpeg:https://bayareafilmsociety.org/wp-content/uploads/2025/08/Folktales_poster.jpg
END:VEVENT
BEGIN:VEVENT
DTSTART;TZID=America/Chicago:20251118T173000
DTEND;TZID=America/Chicago:20251118T173000
DTSTAMP:20260423T181823
CREATED:20250918T002508Z
LAST-MODIFIED:20250918T002604Z
UID:10000982-1763487000-1763487000@bayareafilmsociety.org
SUMMARY:BAFS Board meeting
DESCRIPTION:
URL:https://bayareafilmsociety.org/event/bafs-board-meeting-13/2025-11-18/
LOCATION:Historic Bay Theater\, 420 Main Street West\, Ashland\, WI\, 54806
END:VEVENT
END:VCALENDAR