BEGIN:VCALENDAR
VERSION:2.0
PRODID:-//Bay Area Film Society - ECPv6.15.20//NONSGML v1.0//EN
CALSCALE:GREGORIAN
METHOD:PUBLISH
X-WR-CALNAME:Bay Area Film Society
X-ORIGINAL-URL:https://bayareafilmsociety.org
X-WR-CALDESC:Events for Bay Area Film Society
REFRESH-INTERVAL;VALUE=DURATION:PT1H
X-Robots-Tag:noindex
X-PUBLISHED-TTL:PT1H
BEGIN:VTIMEZONE
TZID:America/Chicago
BEGIN:DAYLIGHT
TZOFFSETFROM:-0600
TZOFFSETTO:-0500
TZNAME:CDT
DTSTART:20220313T080000
END:DAYLIGHT
BEGIN:STANDARD
TZOFFSETFROM:-0500
TZOFFSETTO:-0600
TZNAME:CST
DTSTART:20221106T070000
END:STANDARD
BEGIN:DAYLIGHT
TZOFFSETFROM:-0600
TZOFFSETTO:-0500
TZNAME:CDT
DTSTART:20230312T080000
END:DAYLIGHT
BEGIN:STANDARD
TZOFFSETFROM:-0500
TZOFFSETTO:-0600
TZNAME:CST
DTSTART:20231105T070000
END:STANDARD
BEGIN:DAYLIGHT
TZOFFSETFROM:-0600
TZOFFSETTO:-0500
TZNAME:CDT
DTSTART:20240310T080000
END:DAYLIGHT
BEGIN:STANDARD
TZOFFSETFROM:-0500
TZOFFSETTO:-0600
TZNAME:CST
DTSTART:20241103T070000
END:STANDARD
END:VTIMEZONE
BEGIN:VEVENT
DTSTART;TZID=America/Chicago:20230812T000000
DTEND;TZID=America/Chicago:20230812T013000
DTSTAMP:20260423T165857
CREATED:20230803T224958Z
LAST-MODIFIED:20230807T193400Z
UID:10000091-1691798400-1691803800@bayareafilmsociety.org
SUMMARY:The Rocky Horror Picture Show
DESCRIPTION:﻿Some say The Rocky Horror Picture Show is the greatest movie ever made. Transcendent\, orgiastic and earnest\, the command it can hold over a crowd demonstrates cinema as some twisted\, liberating religion. With these observations in mind\, it is no wonder why so many hold the film in such high regard. \nThe Bay Area Film Society is proud to announce our partnership with the Bay Theater and Chequamegon Pride in helping to put on the 2023 midnight screenings of The Rocky Horror Picture Show. Members of our board will be providing security services for the two back-to-back shows on Friday\, August 11 and again on Saturday\, August 12. Tickets will be sold by the Bay Theater at a reduced price of $4.00\, because film is for everyone–lovers\, misfits\, all. \n1 hour 40 minutes\nRated R
URL:https://bayareafilmsociety.org/event/the-rocky-horror-picture-show/
LOCATION:Historic Bay Theater\, 420 Main Street West\, Ashland\, WI\, 54806
CATEGORIES:Film Screening
ATTACH;FMTTYPE=image/jpeg:https://bayareafilmsociety.org/wp-content/uploads/2023/08/Original_Rocky_Horror_Picture_Show_poster.jpg
END:VEVENT
BEGIN:VEVENT
DTSTART;TZID=America/Chicago:20230623T213000
DTEND;TZID=America/Chicago:20230623T213000
DTSTAMP:20260423T165857
CREATED:20230523T215057Z
LAST-MODIFIED:20230523T215306Z
UID:10000090-1687555800-1687555800@bayareafilmsociety.org
SUMMARY:The Adventures of Priscilla\, Queen of the Desert
DESCRIPTION:The Adventures of Priscilla\, Queen of the Desert is a 1994 Australian road comedy film written and directed by Stephan Elliott. The plot follows two drag queens\, played by Hugo Weaving and Guy Pearce\, and a transgender woman\, played by Terence Stamp\, as they journey across the Australian Outback from Sydney to Alice Springs in a tour bus that they have named “Priscilla”\, along the way encountering various groups and individuals. \n1 hour 43 minutes\nRated R for sex-related situations and language
URL:https://bayareafilmsociety.org/event/the-adventures-of-priscilla-queen-of-the-desert/
LOCATION:Historic Bay Theater\, 420 Main Street West\, Ashland\, WI\, 54806
CATEGORIES:Film Screening
ATTACH;FMTTYPE=image/jpeg:https://bayareafilmsociety.org/wp-content/uploads/2023/05/Priscilla_the_Queen.jpg
END:VEVENT
BEGIN:VEVENT
DTSTART;TZID=America/Chicago:20230428T193000
DTEND;TZID=America/Chicago:20230428T193000
DTSTAMP:20260423T165857
CREATED:20230315T212608Z
LAST-MODIFIED:20230315T212608Z
UID:10000026-1682710200-1682710200@bayareafilmsociety.org
SUMMARY:Super Secret Screening TBA
DESCRIPTION:(Sponsors/Volunteers/Members only)
URL:https://bayareafilmsociety.org/event/super-secret-screening-tba/
LOCATION:Historic Bay Theater\, 420 Main Street West\, Ashland\, WI\, 54806
CATEGORIES:Film Screening
END:VEVENT
BEGIN:VEVENT
DTSTART;TZID=America/Chicago:20230420T190000
DTEND;TZID=America/Chicago:20230420T190000
DTSTAMP:20260423T165857
CREATED:20230329T163628Z
LAST-MODIFIED:20230329T163628Z
UID:10000029-1682017200-1682017200@bayareafilmsociety.org
SUMMARY:Polyfaces
DESCRIPTION:Polyfaces is a joyful film about connecting to the land and the community. Produced over 4 years it follows the Salatins\, a 4th generation farming family who do ‘everything different to everyone else’ as they produce food in a way that works with nature\, not against it. \nFREE showing sponsored by the Ashland/Bayfield Chapter of the Wisconsin Farmers Union \n1 hour 30 minutes\nNot Rated
URL:https://bayareafilmsociety.org/event/polyfaces-2/
LOCATION:Historic Bay Theater\, 420 Main Street West\, Ashland\, WI\, 54806
CATEGORIES:Film Screening
ATTACH;FMTTYPE=image/jpeg:https://bayareafilmsociety.org/wp-content/uploads/2023/03/polyfaces.jpg
END:VEVENT
BEGIN:VEVENT
DTSTART;TZID=America/Chicago:20230414T193000
DTEND;TZID=America/Chicago:20230414T193000
DTSTAMP:20260423T165857
CREATED:20230315T211710Z
LAST-MODIFIED:20230414T221451Z
UID:10000025-1681500600-1681500600@bayareafilmsociety.org
SUMMARY:Everything Everywhere All at Once
DESCRIPTION:Everything Everywhere All at Once is a 2022 American absurdist comedy-drama film written and directed by Daniel Kwan and Daniel Scheinert (collectively known as “Daniels”)\, who produced it with Anthony and Joe Russo and Jonathan Wang. It follows Evelyn Wang\, a Chinese-American immigrant who\, while being audited by the IRS\, must connect with parallel universe versions of herself to prevent a powerful being from destroying the multiverse. Michelle Yeoh stars as Evelyn\, with Stephanie Hsu\, Ke Huy Quan\, Jenny Slate\, Harry Shum Jr.\, James Hong\, and Jamie Lee Curtis in supporting roles.
URL:https://bayareafilmsociety.org/event/everything/
LOCATION:Historic Bay Theater\, 420 Main Street West\, Ashland\, WI\, 54806
CATEGORIES:Film Screening
ATTACH;FMTTYPE=image/jpeg:https://bayareafilmsociety.org/wp-content/uploads/2023/03/Everything_Everywhere_All_at_Once.jpg
END:VEVENT
BEGIN:VEVENT
DTSTART;TZID=America/Chicago:20230414T170000
DTEND;TZID=America/Chicago:20230414T170000
DTSTAMP:20260423T165857
CREATED:20230323T023906Z
LAST-MODIFIED:20230414T222554Z
UID:10000027-1681491600-1681491600@bayareafilmsociety.org
SUMMARY:Everything Everywhere All at Once
DESCRIPTION:Everything Everywhere All at Once is a 2022 American absurdist comedy-drama film written and directed by Daniel Kwan and Daniel Scheinert (collectively known as “Daniels”)\, who produced it with Anthony and Joe Russo and Jonathan Wang. It follows Evelyn Wang\, a Chinese-American immigrant who\, while being audited by the IRS\, must connect with parallel universe versions of herself to prevent a powerful being from destroying the multiverse. Michelle Yeoh stars as Evelyn\, with Stephanie Hsu\, Ke Huy Quan\, Jenny Slate\, Harry Shum Jr.\, James Hong\, and Jamie Lee Curtis in supporting roles.
URL:https://bayareafilmsociety.org/event/everything-everywhere-all-at-once/
LOCATION:Historic Bay Theater\, 420 Main Street West\, Ashland\, WI\, 54806
CATEGORIES:Film Screening
ATTACH;FMTTYPE=image/jpeg:https://bayareafilmsociety.org/wp-content/uploads/2023/03/Everything_Everywhere_All_at_Once.jpg
END:VEVENT
BEGIN:VEVENT
DTSTART;TZID=America/Chicago:20230324T193000
DTEND;TZID=America/Chicago:20230324T193000
DTSTAMP:20260423T165857
CREATED:20230214T232903Z
LAST-MODIFIED:20230307T212007Z
UID:10000020-1679686200-1679686200@bayareafilmsociety.org
SUMMARY:Butterfly in the Sky
DESCRIPTION:Butterfly in the Sky chronicles the journeys of broadcasters\, educators and filmmakers who believed television could inspire a lifelong love of reading. \n1 hour 27 minutes\nNot Rated\n$7.00 for members
URL:https://bayareafilmsociety.org/event/butterfly-in-the-sky-2/
LOCATION:Historic Bay Theater\, 420 Main Street West\, Ashland\, WI\, 54806
CATEGORIES:Film Screening
ATTACH;FMTTYPE=image/jpeg:https://bayareafilmsociety.org/wp-content/uploads/2023/02/Butterfly-in-the-Sky.jpg
END:VEVENT
BEGIN:VEVENT
DTSTART;TZID=America/Chicago:20230324T170000
DTEND;TZID=America/Chicago:20230324T170000
DTSTAMP:20260423T165857
CREATED:20230214T232640Z
LAST-MODIFIED:20230307T212856Z
UID:10000019-1679677200-1679677200@bayareafilmsociety.org
SUMMARY:Butterfly in the Sky
DESCRIPTION:Butterfly in the Sky chronicles the journeys of broadcasters\, educators and filmmakers who believed television could inspire a lifelong love of reading. \nFREE showing sponsored by Friends of the Vaughn Library & Ashland Adult Literacy  \n1 hour 27 minutes\nNot Rated
URL:https://bayareafilmsociety.org/event/butterfly-in-the-sky/
LOCATION:Historic Bay Theater\, 420 Main Street West\, Ashland\, WI\, 54806
CATEGORIES:Film Screening
ATTACH;FMTTYPE=image/jpeg:https://bayareafilmsociety.org/wp-content/uploads/2023/02/Butterfly-in-the-Sky.jpg
END:VEVENT
BEGIN:VEVENT
DTSTART;TZID=America/Chicago:20230310T193000
DTEND;TZID=America/Chicago:20230310T193000
DTSTAMP:20260423T165857
CREATED:20230214T231601Z
LAST-MODIFIED:20230216T004357Z
UID:10000018-1678476600-1678476600@bayareafilmsociety.org
SUMMARY:Aftersun
DESCRIPTION:Aftersun is a 2022 coming-of-age drama film written and directed by Charlotte Wells\, starring Paul Mescal\, Frankie Corio and Celia Rowlson-Hall. Set in the early 2000s\, the film follows Sophie\, an 11-year-old Scottish girl\, on vacation with her father at a Turkish resort on the eve of his 31st birthday. \n$7.00 for members\nRated R\n101 min.
URL:https://bayareafilmsociety.org/event/aftersun-2/
LOCATION:Historic Bay Theater\, 420 Main Street West\, Ashland\, WI\, 54806
CATEGORIES:Film Screening
ATTACH;FMTTYPE=image/jpeg:https://bayareafilmsociety.org/wp-content/uploads/2023/02/Aftersun.jpg
END:VEVENT
BEGIN:VEVENT
DTSTART;TZID=America/Chicago:20230310T170000
DTEND;TZID=America/Chicago:20230310T170000
DTSTAMP:20260423T165857
CREATED:20230214T231121Z
LAST-MODIFIED:20230216T004440Z
UID:10000017-1678467600-1678467600@bayareafilmsociety.org
SUMMARY:Aftersun
DESCRIPTION:Aftersun is a 2022 coming-of-age drama film written and directed by Charlotte Wells\, starring Paul Mescal\, Frankie Corio and Celia Rowlson-Hall. Set in the early 2000s\, the film follows Sophie\, an 11-year-old Scottish girl\, on vacation with her father at a Turkish resort on the eve of his 31st birthday. \n$7.00 for members\nRated R\n101 min.
URL:https://bayareafilmsociety.org/event/aftersun/
LOCATION:Historic Bay Theater\, 420 Main Street West\, Ashland\, WI\, 54806
CATEGORIES:Film Screening
ATTACH;FMTTYPE=image/jpeg:https://bayareafilmsociety.org/wp-content/uploads/2023/02/Aftersun.jpg
END:VEVENT
BEGIN:VEVENT
DTSTART;TZID=America/Chicago:20230224T193000
DTEND;TZID=America/Chicago:20230224T193000
DTSTAMP:20260423T165857
CREATED:20230214T221402Z
LAST-MODIFIED:20230216T004519Z
UID:10000016-1677267000-1677267000@bayareafilmsociety.org
SUMMARY:Living
DESCRIPTION:﻿Living is a 2022 British drama film directed by Oliver Hermanus from a screenplay by Kazuo Ishiguro\, adapted from the 1952 Japanese film Ikiru directed by Akira Kurosawa\, which in turn was inspired by the 1886 Russian novella The Death of Ivan Ilyich by Leo Tolstoy. Set in 1953 London\, it depicts a bureaucrat in the county Public Works department (played by Bill Nighy) facing a fatal illness. \n$7.00 for members\nRated PG-13\n102 min.
URL:https://bayareafilmsociety.org/event/living-2/
LOCATION:Historic Bay Theater\, 420 Main Street West\, Ashland\, WI\, 54806
CATEGORIES:Film Screening
ATTACH;FMTTYPE=image/jpeg:https://bayareafilmsociety.org/wp-content/uploads/2023/02/Living_poster.jpg
END:VEVENT
BEGIN:VEVENT
DTSTART;TZID=America/Chicago:20230224T170000
DTEND;TZID=America/Chicago:20230224T170000
DTSTAMP:20260423T165857
CREATED:20230214T220003Z
LAST-MODIFIED:20230216T004614Z
UID:10000015-1677258000-1677258000@bayareafilmsociety.org
SUMMARY:Living
DESCRIPTION:﻿Living is a 2022 British drama film directed by Oliver Hermanus from a screenplay by Kazuo Ishiguro\, adapted from the 1952 Japanese film Ikiru directed by Akira Kurosawa\, which in turn was inspired by the 1886 Russian novella The Death of Ivan Ilyich by Leo Tolstoy. Set in 1953 London\, it depicts a bureaucrat in the county Public Works department (played by Bill Nighy) facing a fatal illness. \n$7.00 for members\nRated PG-13\n102 min.
URL:https://bayareafilmsociety.org/event/living/
LOCATION:Historic Bay Theater\, 420 Main Street West\, Ashland\, WI\, 54806
CATEGORIES:Film Screening
ATTACH;FMTTYPE=image/jpeg:https://bayareafilmsociety.org/wp-content/uploads/2023/02/Living_poster.jpg
END:VEVENT
BEGIN:VEVENT
DTSTART;TZID=America/Chicago:20230210T170000
DTEND;TZID=America/Chicago:20230210T170000
DTSTAMP:20260423T165857
CREATED:20230210T222221Z
LAST-MODIFIED:20230215T003013Z
UID:10000008-1676048400-1676048400@bayareafilmsociety.org
SUMMARY:Triangle of Sadness
DESCRIPTION:Triangle of Sadness is a 2022 satirical black comedy film written and directed by Ruben Östlund in his English-language feature film debut. The film stars Harris Dickinson\, Charlbi Dean\, Dolly de Leon\, Zlatko Burić\, Henrik Dorsin\, Vicki Berlin\, and Woody Harrelson. It is the last film Dean starred in before her death in August 2022. The film follows a celebrity couple on a luxury cruise with wealthy guests. \nRated R\n140 min.
URL:https://bayareafilmsociety.org/event/triangle-of-sadness/
LOCATION:Historic Bay Theater\, 420 Main Street West\, Ashland\, WI\, 54806
CATEGORIES:Film Screening
ATTACH;FMTTYPE=image/jpeg:https://bayareafilmsociety.org/wp-content/uploads/2023/02/TriangleOfSadness2022Poster.jpg
END:VEVENT
BEGIN:VEVENT
DTSTART;TZID=America/Chicago:20230127T193000
DTEND;TZID=America/Chicago:20230127T193000
DTSTAMP:20260423T165857
CREATED:20230210T223439Z
LAST-MODIFIED:20230210T223616Z
UID:10000011-1674847800-1674847800@bayareafilmsociety.org
SUMMARY:Decision to Leave
DESCRIPTION:Decision to Leave (Korean: 헤어질 결심; Hanja: 헤어질 決心; RR: Heeojil gyeolsim; lit. Resolution to Break Up) is a 2022 South Korean romantic mystery film produced\, co-written and directed by Park Chan-wook. It stars Tang Wei and Park Hae-il. \nNot Rated\n138 min.
URL:https://bayareafilmsociety.org/event/decision-to-leave-2/
LOCATION:Historic Bay Theater\, 420 Main Street West\, Ashland\, WI\, 54806
CATEGORIES:Film Screening
ATTACH;FMTTYPE=image/jpeg:https://bayareafilmsociety.org/wp-content/uploads/2023/02/Decision_to_Leave_film_poster.jpg
END:VEVENT
BEGIN:VEVENT
DTSTART;TZID=America/Chicago:20230127T170000
DTEND;TZID=America/Chicago:20230127T170000
DTSTAMP:20260423T165857
CREATED:20230210T223257Z
LAST-MODIFIED:20230210T223257Z
UID:10000010-1674838800-1674838800@bayareafilmsociety.org
SUMMARY:Decision to Leave
DESCRIPTION:Decision to Leave (Korean: 헤어질 결심; Hanja: 헤어질 決心; RR: Heeojil gyeolsim; lit. Resolution to Break Up) is a 2022 South Korean romantic mystery film produced\, co-written and directed by Park Chan-wook. It stars Tang Wei and Park Hae-il. \nNot Rated\n138 min.
URL:https://bayareafilmsociety.org/event/decision-to-leave/
LOCATION:Historic Bay Theater\, 420 Main Street West\, Ashland\, WI\, 54806
CATEGORIES:Film Screening
ATTACH;FMTTYPE=image/jpeg:https://bayareafilmsociety.org/wp-content/uploads/2023/02/Decision_to_Leave_film_poster.jpg
END:VEVENT
BEGIN:VEVENT
DTSTART;TZID=America/Chicago:20230113T193000
DTEND;TZID=America/Chicago:20230113T193000
DTSTAMP:20260423T165857
CREATED:20230210T224013Z
LAST-MODIFIED:20230210T224013Z
UID:10000012-1673638200-1673638200@bayareafilmsociety.org
SUMMARY:Moonage Daydream
DESCRIPTION:Moonage Daydream is a 2022 documentary film about English singer-songwriter David Bowie. Written\, directed\, produced and edited by Brett Morgen\, the film uses previously unreleased footage from Bowie’s personal archives\, including live concert footage. It is the first film to be officially authorized by Bowie’s estate\, and takes its title from the 1972 Bowie song of the same name. \nRated PG-13\n135 min.
URL:https://bayareafilmsociety.org/event/moonage-daydream/
LOCATION:Historic Bay Theater\, 420 Main Street West\, Ashland\, WI\, 54806
CATEGORIES:Film Screening
ATTACH;FMTTYPE=image/jpeg:https://bayareafilmsociety.org/wp-content/uploads/2023/02/Moonage_Daydream_film.jpg
END:VEVENT
BEGIN:VEVENT
DTSTART;TZID=America/Chicago:20230113T180000
DTEND;TZID=America/Chicago:20230113T180000
DTSTAMP:20260423T165857
CREATED:20230210T224348Z
LAST-MODIFIED:20230210T224439Z
UID:10000013-1673632800-1673632800@bayareafilmsociety.org
SUMMARY:Bowie Dance Party
DESCRIPTION:
URL:https://bayareafilmsociety.org/event/bowie-dance-party/
LOCATION:Historic Bay Theater\, 420 Main Street West\, Ashland\, WI\, 54806
CATEGORIES:Special Events
END:VEVENT
END:VCALENDAR